BEGIN:VCALENDAR
VERSION:2.0
PRODID:-//ChamberMaster//Event Calendar 2.0//EN
METHOD:PUBLISH
X-PUBLISHED-TTL:P3D
REFRESH-INTERVAL:P3D
CALSCALE:GREGORIAN
BEGIN:VEVENT
DTSTART:20191221T000000Z
DTEND:20191221T013000Z
X-MICROSOFT-CDO-ALLDAYEVENT:FALSE
SUMMARY:Sound & Yin Event
DESCRIPTION:We will begin this session with Brian Perry guiding you through a gentle candlelit Restorative Yin class accompanied by sound from Jordan Klein. This time will allow your body to stretch\, release\, and open\, leaving it refreshed and cleared. The remaining time will be spend laying on your mat\, using any props necessary to ensure you are comfortable\, to be fully immersed in the sound. This Sound Bath harmonically combines vibrations produced by crystal\, metal\, vocal and digital sound created by Jordan. Jordan is a Frequency Alchemist\, Reiki Master\, Visual Artist\, and Ashtanga Yogi\, who has been studying and practicing sound as medicine for years.
X-ALT-DESC;FMTTYPE=text/html:<div>We will begin this session with Brian Perry guiding you through a gentle candlelit Restorative Yin class accompanied by sound from Jordan Klein. This time will allow your body to stretch\, release\, and open\, leaving it refreshed and cleared. The remaining time will be spend laying on your mat\, using any props necessary to ensure you are comfortable\, to be fully immersed in the sound. This Sound Bath harmonically combines vibrations produced by crystal\, metal\, vocal and digital sound created by Jordan. Jordan is a Frequency Alchemist\, Reiki Master\, Visual Artist\, and Ashtanga Yogi\, who has been studying and practicing sound as medicine for years.</div>\n\n<div>&nbsp\;</div>\n\n<div>&nbsp\;</div>\n
LOCATION:Prairie Fire Yoga
UID:e.1184.23870
SEQUENCE:3
DTSTAMP:20260423T070336Z
URL:http://members.saukprairie.com/events/details/sound-yin-event-23870
END:VEVENT

END:VCALENDAR
