BEGIN:VCALENDAR
VERSION:2.0
PRODID:-//ChamberMaster//Event Calendar 2.0//EN
METHOD:PUBLISH
X-PUBLISHED-TTL:P3D
REFRESH-INTERVAL:P3D
CALSCALE:GREGORIAN
BEGIN:VEVENT
DTSTART:20240204T180000Z
DTEND:20240204T200000Z
X-MICROSOFT-CDO-ALLDAYEVENT:FALSE
SUMMARY:SOUPer Bowl - for Circles Sauk Prairie
DESCRIPTION:Go home with a unique\, one of a kind handmade bowl made by Sauk Prairie High School Pottery Students\n\nAnd enjoy homemade soup by local celebrity chefs\n\nFebruary 4\, 2024 ~ 12:00 - 2pm\n\nAll proceeds benefit Circles Sauk Prairie - Reducing poverty in Sauk Prairie by 10% in 10 years\n\nMust Purchase a Ticket to attend:\n\nTickets are $68 or $500 for a Full Table of 8\n\nTickets can be purchased online: https://www.makingservicepersonal.org/.../circles/souperbowl\n\nOr at 6:8\, 821 Industry Rd\, Sauk City\, WI 53583\n\nProgram will include hearing from a Circle Leader\, an Art Student\, and the Soup Makers.
X-ALT-DESC;FMTTYPE=text/html:<div class="xdj266r x11i5rnm xat24cr x1mh8g0r x1vvkbs" color:="" font-size:="" segoe="" style="margin: 0px\; overflow-wrap: break-word\; font-family: " ui="">Go home with a unique\, one of a kind handmade bowl made by Sauk Prairie High School Pottery Students</div>\n\n<div class="x11i5rnm xat24cr x1mh8g0r x1vvkbs xtlvy1s" color:="" font-size:="" segoe="" style="margin: 0.5em 0px 0px\; overflow-wrap: break-word\; font-family: " ui="">And enjoy homemade soup by local celebrity chefs</div>\n\n<div class="x11i5rnm xat24cr x1mh8g0r x1vvkbs xtlvy1s" color:="" font-size:="" segoe="" style="margin: 0.5em 0px 0px\; overflow-wrap: break-word\; font-family: " ui="">February 4\, 2024 ~ 12:00 - 2pm</div>\n\n<div class="x11i5rnm xat24cr x1mh8g0r x1vvkbs xtlvy1s" color:="" font-size:="" segoe="" style="margin: 0.5em 0px 0px\; overflow-wrap: break-word\; font-family: " ui="">All proceeds benefit Circles Sauk Prairie - Reducing poverty in Sauk Prairie by 10% in 10 years</div>\n\n<div class="x11i5rnm xat24cr x1mh8g0r x1vvkbs xtlvy1s" color:="" font-size:="" segoe="" style="margin: 0.5em 0px 0px\; overflow-wrap: break-word\; font-family: " ui="">Must Purchase a Ticket to attend:<br />\nTickets are $68 or $500 for a Full Table of 8</div>\n\n<div class="x11i5rnm xat24cr x1mh8g0r x1vvkbs xtlvy1s" color:="" font-size:="" segoe="" style="margin: 0.5em 0px 0px\; overflow-wrap: break-word\; font-family: " ui="">Tickets can be purchased online:&nbsp\;<strong><a href="https://l.facebook.com/l.php?u=https%3A%2F%2Fwww.makingservicepersonal.org%2Fprograms-services%2Fcircles%2Fsouperbowl%3Ffbclid%3DIwAR1R-FdFjZrsx7M6lhqq8ww0UU5Ele5bT7CmW3WgK6h08KhN3zUzjY-qLdc&amp\;h=AT1ZL6qsEW0tHde5yfW2B-zEwZ9dgivRTCEC4-CTFlM0yWevX8nwwbrGmGKjNA6byPSi5_loe14oQRBewkxVEoZAFHLxm5JYP5LWqhswpksTgqA0AeTBwYTKd1t8GIc2fg&amp\;__tn__=q&amp\;c[0]=AT1P4oj2b9pB1ioOqO53gX2gEVljaDSILk0EKs3Zh_7ifOQoGHYv1BIV_BY0-Zn20tIdIW-27BLfwhZNJrSxxOf9KjLojWx9z-Q-YqCw0-iebtdLxHlQaUv-RbllOGDBnF6joA7BeD8Svqi2S3JlNatwXP-x">https://www.makingservicepersonal.org/.../circles/souperbowl</a></strong></div>\n\n<div class="x11i5rnm xat24cr x1mh8g0r x1vvkbs xtlvy1s" color:="" font-size:="" segoe="" style="margin: 0.5em 0px 0px\; overflow-wrap: break-word\; font-family: " ui="">Or at 6:8\, 821 Industry Rd\, Sauk City\, WI 53583</div>\n\n<div class="x11i5rnm xat24cr x1mh8g0r x1vvkbs xtlvy1s" color:="" font-size:="" segoe="" style="margin: 0.5em 0px 0px\; overflow-wrap: break-word\; font-family: " ui="">Program will include hearing from a Circle Leader\, an Art Student\, and the Soup Makers.</div>\n
LOCATION:6:8
UID:e.1184.31533
SEQUENCE:3
DTSTAMP:20260420T003438Z
URL:http://members.saukprairie.com/events/details/souper-bowl-for-circles-sauk-prairie-31533
END:VEVENT

END:VCALENDAR
