BEGIN:VCALENDAR
VERSION:2.0
PRODID:-//ChamberMaster//Event Calendar 2.0//EN
METHOD:PUBLISH
X-PUBLISHED-TTL:P3D
REFRESH-INTERVAL:P3D
CALSCALE:GREGORIAN
BEGIN:VEVENT
DTSTART:20170218T160000Z
DTEND:20170219T020000Z
X-MICROSOFT-CDO-ALLDAYEVENT:FALSE
SUMMARY:SP Against Hunger Fund Raiser at Papa Murphy's
DESCRIPTION:Papa Murphy's Pizza\, 1430 Prairie St\, Prairie du Sac is hosting a fundraiser for Sauk Prairie Against Hunger on Saturday\, Feb. 18 from 10:00 a.m. to 8:00. For each Large or Family size pizza purchased 9 children are fed.\n\n \n\nPlease come and purchase Papa Murphy's delicious Large or Family size pizza for you and your family to enjoy and help feed children locally and globally.
X-ALT-DESC;FMTTYPE=text/html:<span style="font-size:14px\;">Papa Murphy&rsquo\;s Pizza\, 1430 Prairie St\, Prairie du Sac is hosting a fundraiser for Sauk Prairie Against Hunger on Saturday\, Feb. 18 from 10:00 a.m. to 8:00. For each Large or Family size pizza purchased 9 children are fed.<br />\n&nbsp\;<br />\nPlease come and purchase Papa Murphy&rsquo\;s delicious Large or Family size pizza for you and your family to enjoy and help feed children locally and globally.</span>
LOCATION:
UID:e.1184.9931
SEQUENCE:3
DTSTAMP:20260425T124033Z
URL:http://members.saukprairie.com/events/details/sp-against-hunger-fund-raiser-at-papa-murphy-s-9931
END:VEVENT

END:VCALENDAR
