BEGIN:VCALENDAR
VERSION:2.0
PRODID:-//ChamberMaster//Event Calendar 2.0//EN
METHOD:PUBLISH
X-PUBLISHED-TTL:P3D
REFRESH-INTERVAL:P3D
CALSCALE:GREGORIAN
BEGIN:VEVENT
DTSTART;VALUE=DATE:20240202
DTEND;VALUE=DATE:20240203
TRANSP:TRANSPARENT
X-MICROSOFT-CDO-ALLDAYEVENT:TRUE
SUMMARY:SP Boosters Rock the Gym
DESCRIPTION:ROCK THE GYM...Happening Friday February 2nd at the Sauk Prairie High School starting at 4 pm. Come out and support our student athletes and take in a fun filled evening with raffles\, 50/50\, prizes & cheer on the boys/girls basketball teams.\n\n \n\nhttps://www.32auctions.com/rockthegym2024\n\n\n\nTake a look!! Make a bid!! Auction is now LIVE!!!!!!!! Check back often as items will be added through the week!\n\n\n\n\n\nGO EAGLES!!!
X-ALT-DESC;FMTTYPE=text/html:<div class="xdj266r x11i5rnm xat24cr x1mh8g0r x1vvkbs x126k92a" color:="" font-size:="" segoe="" style="margin: 0px\; overflow-wrap: break-word\; white-space-collapse: preserve\; font-family: " ui="">\n<div dir="auto" style="font-family: inherit\;"><strong>ROCK THE GYM</strong>...Happening Friday February 2nd at the Sauk Prairie High School starting at 4 pm. Come out and support our student athletes and take in a fun filled evening with raffles\, 50/50\, prizes &amp\; cheer on the boys/girls basketball teams.<br />\n&nbsp\;\n<div class="xdj266r x11i5rnm xat24cr x1mh8g0r x1vvkbs x126k92a" color:="" font-size:="" segoe="" style="margin: 0px\; overflow-wrap: break-word\; white-space-collapse: preserve\; font-family: " ui="">\n<div dir="auto" style="font-family: inherit\;"><strong><u><span style="font-family: inherit\;"><a class="x1i10hfl xjbqb8w x6umtig x1b1mbwd xaqea5y xav7gou x9f619 x1ypdohk xt0psk2 xe8uvvx xdj266r x11i5rnm xat24cr x1mh8g0r xexx8yu x4uap5 x18d9i69 xkhd6sd x16tdsg8 x1hl2dhg xggy1nq x1a2a7pz xt0b8zv x1fey0fg" href="https://l.facebook.com/l.php?u=https%3A%2F%2Fwww.32auctions.com%2Frockthegym2024%3Ffbclid%3DIwAR3TsXMothQp9xitm2XoW8ieyops5KYJbCjIcO3h3Spmxq7Kwx52ibJB-30&amp\;h=AT3MDRyz9cA3VW_j7CxgKl_zxefHsG39IlES-nVHUYLgi0wevezB95i2zSjqavjtGdvqF7WKllozJ016RhzrqhycDYSxo6yBf8rO-zQF62t6OONQCYPPamxr9vyzhpQ98w&amp\;__tn__=-UK-y-R&amp\;c[0]=AT19DXLGlvLtzkHXZP45E2WAS_VtZzhkjSuz0K-A7QmHzrStBpc3AV22bytT0VcUF7tQWafYO64-C-9LzkQsgm50d2mcSitgkaVLSclH7KyS1jrXzTR8rl-J4QvBBY11zzaZrRZhtpI3Mr_9Z4yLaYohfQG10faXnfv__3miIJP_j0U7lI-1IlaxQrnBjEbrym6fvjTlF7yRd8Sb53NbKV-YBidchUwdVngf" rel="nofollow noreferrer" role="link" style="color: var(--blue-link)\; cursor: pointer\; outline: none\; border-width: 0px\; border-style: initial\; border-color: initial\; list-style: none\; margin: 0px\; text-align: inherit\; padding: 0px\; box-sizing: border-box\; background-color: transparent\; display: inline\; -webkit-tap-highlight-color: transparent\; touch-action: manipulation\; font-family: inherit\;" tabindex="0" target="_blank">https://www.32auctions.com/rockthegym2024</a></span></u></strong></div>\n</div>\n\n<div class="x11i5rnm xat24cr x1mh8g0r x1vvkbs xtlvy1s x126k92a" color:="" font-size:="" segoe="" style="margin: 0.5em 0px 0px\; overflow-wrap: break-word\; white-space-collapse: preserve\; font-family: " ui="">\n<div dir="auto" style="font-family: inherit\;">Take a look!! Make a bid!! Auction is now LIVE!!!!!!!! Check back often as items will be added through the week!</div>\n</div>\n</div>\n</div>\n\n<div class="x11i5rnm xat24cr x1mh8g0r x1vvkbs xtlvy1s x126k92a" color:="" font-size:="" segoe="" style="margin: 0.5em 0px 0px\; overflow-wrap: break-word\; white-space-collapse: preserve\; font-family: " ui="">\n<div dir="auto" style="font-family: inherit\;"><strong>GO EAGLES!!!</strong></div>\n</div>\n
LOCATION:Sauk Prairie High School Gym
UID:e.1184.31538
SEQUENCE:3
DTSTAMP:20260420T003437Z
URL:http://members.saukprairie.com/events/details/sp-boosters-rock-the-gym-31538
END:VEVENT

END:VCALENDAR
