BEGIN:VCALENDAR
VERSION:2.0
PRODID:-//ChamberMaster//Event Calendar 2.0//EN
METHOD:PUBLISH
X-PUBLISHED-TTL:P3D
REFRESH-INTERVAL:P3D
CALSCALE:GREGORIAN
BEGIN:VEVENT
DTSTART;VALUE=DATE:20250207
DTEND;VALUE=DATE:20250208
TRANSP:TRANSPARENT
X-MICROSOFT-CDO-ALLDAYEVENT:TRUE
SUMMARY:SP Boosters Rock the Gym
DESCRIPTION:ROCK THE GYM...Happening Friday February 7th at the Sauk Prairie High School starting at 4 pm. Come out and support our student athletes and take in a fun filled evening with raffles\, 50/50\, prizes & cheer on the boys/girls basketball teams.\n\nMore information to come.\n\n\n\n\n\nGO EAGLES!!!
X-ALT-DESC;FMTTYPE=text/html:<div class="xdj266r x11i5rnm xat24cr x1mh8g0r x1vvkbs x126k92a" color:="" font-size:="" segoe="" style="margin: 0px\; overflow-wrap: break-word\; white-space-collapse: preserve\; font-family: " ui="">\n<div dir="auto" style="font-family: inherit\;"><strong>ROCK THE GYM</strong>...Happening Friday February 7th at the Sauk Prairie High School starting at 4 pm. Come out and support our student athletes and take in a fun filled evening with raffles\, 50/50\, prizes &amp\; cheer on the boys/girls basketball teams.\n<div class="x11i5rnm xat24cr x1mh8g0r x1vvkbs xtlvy1s x126k92a" color:="" font-size:="" segoe="" style="margin: 0.5em 0px 0px\; overflow-wrap: break-word\; white-space-collapse: preserve\; font-family: " ui="">\n<div dir="auto" style="font-family: inherit\;">More information to come.</div>\n</div>\n</div>\n</div>\n\n<div class="x11i5rnm xat24cr x1mh8g0r x1vvkbs xtlvy1s x126k92a" color:="" font-size:="" segoe="" style="margin: 0.5em 0px 0px\; overflow-wrap: break-word\; white-space-collapse: preserve\; font-family: " ui="">\n<div dir="auto" style="font-family: inherit\;"><strong>GO EAGLES!!!</strong></div>\n</div>\n
LOCATION:Sauk Prairie High School Gym
UID:e.1184.34526
SEQUENCE:3
DTSTAMP:20260419T121637Z
URL:http://members.saukprairie.com/events/details/sp-boosters-rock-the-gym-34526
END:VEVENT

END:VCALENDAR
