BEGIN:VCALENDAR
VERSION:2.0
PRODID:-//ChamberMaster//Event Calendar 2.0//EN
METHOD:PUBLISH
X-PUBLISHED-TTL:P3D
REFRESH-INTERVAL:P3D
CALSCALE:GREGORIAN
BEGIN:VEVENT
DTSTART:20240307T140000Z
DTEND:20240307T230000Z
X-MICROSOFT-CDO-ALLDAYEVENT:FALSE
SUMMARY:SP FFA Alumni and Honey Creek Snowmobile Club Consignment Sale
DESCRIPTION:Mark Your Calendars! Sauk Prairie FFA Alumni & Honey Creek Snowmobile Club\n\nAnnual Consignment Auction\n\n \n\nWhere: Online Auction\n\nWhen: Bidding ends March 7\, 2024\n\n\n\nFor More information:\n\nPlease call or email your list of items for the sale to Brad Anderson (608) 445-6057 or banderson@mcfarlanes.net or Greg Sprecher (608) 393-2504\n\n\n\nGet your items consigned early to receive the most advertising exposure. Gavin Bros will be once again Clerking and Running the sale. . Seeking: Power equipment\, Farm equipment\, hay\, straw\, lawn & garden equipment\, and construction equipment.
X-ALT-DESC;FMTTYPE=text/html:<div color:="" font-size:="" segoe="" ui="">Mark Your Calendars! Sauk Prairie FFA Alumni &amp\; Honey Creek Snowmobile Club<br />\nAnnual Consignment Auction<br />\n&nbsp\;</div>\n\n<div color:="" font-size:="" segoe="" ui="">Where: Online Auction</div>\n\n<div color:="" font-size:="" segoe="" ui="">When: Bidding ends March 7\, 2024</div>\n\n<div color:="" font-size:="" segoe="" ui=""><br />\nFor More information:<br />\nPlease call or email your list of items for the sale to Brad Anderson (608) 445-6057 or banderson@mcfarlanes.net or Greg Sprecher (608) 393-2504</div>\n\n<div color:="" font-size:="" segoe="" ui=""><br />\nGet your items consigned early to receive the most advertising exposure. Gavin Bros will be once again Clerking and Running the sale. . Seeking: Power equipment\, Farm equipment\, hay\, straw\, lawn &amp\; garden equipment\, and construction equipment.&nbsp\;</div>\n
LOCATION:Sauk Prairie FFA Alumni Park
UID:e.1184.31633
SEQUENCE:3
DTSTAMP:20260419T232626Z
URL:http://members.saukprairie.com/events/details/sp-ffa-alumni-and-honey-creek-snowmobile-club-consignment-sale-31633
END:VEVENT

END:VCALENDAR
