BEGIN:VCALENDAR
VERSION:2.0
PRODID:-//ChamberMaster//Event Calendar 2.0//EN
METHOD:PUBLISH
X-PUBLISHED-TTL:P3D
REFRESH-INTERVAL:P3D
CALSCALE:GREGORIAN
BEGIN:VEVENT
DTSTART;VALUE=DATE:20160924
DTEND;VALUE=DATE:20160925
TRANSP:TRANSPARENT
X-MICROSOFT-CDO-ALLDAYEVENT:TRUE
SUMMARY:SP Flyers presents Dueling Pianos Concert
DESCRIPTION:JOIN US ON SEPT. 24\, 2016\n\nSAUK PRAIRIE FLYERS FUNDRAISER\n\nBAGS TOURNAMENT 11AM - 4PM ($20 per team)\n\n(3 divisions: Middle School / High School / Adult)\n\nCash prizes\n\n\n\n  KIDS BOUNCY HOUSE & GAMES\n\nREGISTER HERE\n\n \n\nDUELING PIANO CONCERT ($20 per person)\n\n    Social 5pm - 7pm\n\n    Concert 7pm   MIDNIGHT\n\nBUY TICKETS\n\n \n\nZAMBONI AUCTION\n\nHere's your chance to own a piece of hockey history\n\n \n\nFOR SALE\n\nBEER $3   WINE $4   SODA $2\n\nHOT DOG/CHIPS $3   PULLED PORK SANDWICH/CHIPS $5
X-ALT-DESC;FMTTYPE=text/html:<h1 class="text-align-center" style="margin: 0px 0px 0.5em\; color: rgba(22\, 22\, 29\, 0.6)\; font-family: freight-sans-pro\; line-height: 1.2em\; text-transform: uppercase\; letter-spacing: 2px\; font-weight: 600\; text-align: center\;">JOIN US ON SEPT. 24\, 2016<br />\nSAUK PRAIRIE FLYERS FUNDRAISER</h1>\n\n<p class="text-align-center" style="text-align: center\; color: rgb(54\, 54\, 54)\; font-family: proxima-nova\; font-size: 15px\; line-height: 24px\;"><strong>BAGS TOURNAMENT 11AM - 4PM ($20 per team)</strong><br />\n(<em>3 divisions:&nbsp\;Middle School / High School / Adult)</em><br />\nCash prizes<br />\n<br />\n&bull\; KIDS BOUNCY HOUSE &amp\; GAMES<br />\n<a href="https://www2.jevin.net/goto/pf.go" style="color: rgb(226\, 18\, 18)\; text-decoration: none\;" target="_blank">REGISTER HERE</a></p>\n\n<p class="text-align-center" style="text-align: center\; color: rgb(54\, 54\, 54)\; font-family: proxima-nova\; font-size: 15px\; line-height: 24px\;">&nbsp\;</p>\n\n<p class="text-align-center" style="text-align: center\; color: rgb(54\, 54\, 54)\; font-family: proxima-nova\; font-size: 15px\; line-height: 24px\;"><strong>DUELING PIANO CONCERT ($20 per person)</strong><br />\n&nbsp\;&nbsp\; &nbsp\;Social 5pm - 7pm<br />\n&nbsp\;&nbsp\; &nbsp\;Concert 7pm &ndash\; MIDNIGHT<br />\n<a href="https://www2.jevin.net/goto/pi.go" style="color: rgb(226\, 18\, 18)\; text-decoration: none\;" target="_blank">BUY TICKETS</a><br />\n&nbsp\;</p>\n\n<p class="text-align-center" style="text-align: center\; color: rgb(54\, 54\, 54)\; font-family: proxima-nova\; font-size: 15px\; line-height: 24px\;"><strong>ZAMBONI AUCTION</strong><br />\nHere&rsquo\;s your chance to own a piece of hockey history</p>\n\n<p class="text-align-center" style="text-align: center\; color: rgb(54\, 54\, 54)\; font-family: proxima-nova\; font-size: 15px\; line-height: 24px\;">&nbsp\;</p>\n\n<p class="text-align-center" style="text-align: center\; margin-bottom: 0px\; color: rgb(54\, 54\, 54)\; font-family: proxima-nova\; font-size: 15px\; line-height: 24px\;"><strong>FOR SALE</strong><br />\nBEER $3 &bull\;&nbsp\;WINE $4 &bull\;&nbsp\;SODA $2<br />\nHOT DOG/CHIPS $3 &bull\;&nbsp\;PULLED PORK SANDWICH/CHIPS $5</p>\n
LOCATION:Sauk Prairie Youth Hockey 1700 Tower St\, Prairie du Sac\, Wisconsin 53578
UID:e.1184.9090
SEQUENCE:3
DTSTAMP:20260425T211730Z
URL:http://members.saukprairie.com/events/details/sp-flyers-presents-dueling-pianos-concert-09-24-2016-9090
END:VEVENT

END:VCALENDAR
