BEGIN:VCALENDAR
VERSION:2.0
PRODID:-//ChamberMaster//Event Calendar 2.0//EN
METHOD:PUBLISH
X-PUBLISHED-TTL:P3D
REFRESH-INTERVAL:P3D
CALSCALE:GREGORIAN
BEGIN:VEVENT
DTSTART:20240517T160000Z
DTEND:20240517T180000Z
X-MICROSOFT-CDO-ALLDAYEVENT:FALSE
SUMMARY:SP Garage Sale Friday Command Center Food Truck
DESCRIPTION:Wyttenbach's Command Center Food Truck on Phillips Blvd.\, across from Eagle Plaza for lunch 11 am - 1 pm on Friday\, May 17th.  A fundraiser for Sauk Prairie Optimists.\n\n\n\nServing juicy 1/3# burgers\, fries\, shredded chicken and more!\n\n\n\nfor more information go to our Facebook or Instagram @:\n\nWyttenbach's Command Center Food Truck
X-ALT-DESC;FMTTYPE=text/html:Wyttenbach&#39\;s Command Center Food Truck on Phillips Blvd.\, across from Eagle Plaza for lunch 11 am - 1 pm on Friday\, May 17th.&nbsp\; A fundraiser for Sauk Prairie Optimists.<br />\n<br />\nServing juicy 1/3# burgers\, fries\, shredded chicken and more!<br />\n<br />\nfor more information go to our Facebook or Instagram @:<br />\nWyttenbach&#39\;s Command Center Food Truck
LOCATION:The Command Center Food Truck will be on Phillips Blvd.\, Sauk City\, across from Eagle Plaza.
UID:e.1184.32408
SEQUENCE:3
DTSTAMP:20260419T205329Z
URL:http://members.saukprairie.com/events/details/sp-garage-sale-friday-command-center-food-truck-32408
END:VEVENT

END:VCALENDAR
