BEGIN:VCALENDAR
VERSION:2.0
PRODID:-//ChamberMaster//Event Calendar 2.0//EN
METHOD:PUBLISH
X-PUBLISHED-TTL:P3D
REFRESH-INTERVAL:P3D
CALSCALE:GREGORIAN
BEGIN:VEVENT
DTSTART:20240426T230000Z
DTEND:20240427T020000Z
X-MICROSOFT-CDO-ALLDAYEVENT:FALSE
SUMMARY:SPAH Night of HOPE
DESCRIPTION:Join us for dinner (Soup\, Bread\, & Dessert Cook-off)\, Silent & Live Auction\, cash bar\, and more to raise money for the Sauk Prairie Against Hunger Pack Event in October.
X-ALT-DESC;FMTTYPE=text/html:Join us for dinner (Soup\, Bread\, &amp\; Dessert Cook-off)\, Silent &amp\; Live Auction\, cash bar\, and more to raise money for the Sauk Prairie Against Hunger Pack Event in October.
LOCATION:6:8 Inc. 821 Industry Rd. Sauk City\, WI 53578
UID:e.1184.31626
SEQUENCE:3
DTSTAMP:20260419T221140Z
URL:http://members.saukprairie.com/events/details/spah-night-of-hope-31626
END:VEVENT

END:VCALENDAR
