BEGIN:VCALENDAR
VERSION:2.0
PRODID:-//ChamberMaster//Event Calendar 2.0//EN
METHOD:PUBLISH
X-PUBLISHED-TTL:P3D
REFRESH-INTERVAL:P3D
CALSCALE:GREGORIAN
BEGIN:VEVENT
DTSTART:20221022T143000Z
DTEND:20221022T170000Z
X-MICROSOFT-CDO-ALLDAYEVENT:FALSE
SUMMARY:SPALC Open House
DESCRIPTION:Special invitation to Current SPALC Tutors and Students and Prospective Tutors and Students\n\n\n\nOpen to Everyone in the Community\n\n\n\nDrop by for these exciting opportunities:\n\n	New to SPALC: Learn more about SPALC and connect with volunteers\, learn how to get involved and make a difference!\n	Meet and talk to our SPALC Board Members\n	Speak to available (English and Spanish speaking) representatives to learn about:\n	\n		The Madison College General Educational Development (GED) Program\n		WorkSmart Network and what services they offer in our area\n		Other great community resources\n	\n	\n	Current Tutors: ask questions\, share your experiences with SPALC\; pick-up free tutoring materials\n	Enjoy Free Refreshments\n\n\n\nThe WorkSmart Network is a group of nonprofits\, technical colleges and business partners that come together to help individuals with employment.\n\n\n\nOffers one-on-one assistance and tailor our services to those we serve. Also assists with connections to other resources that offer additional support\, such as housing\, food\, child care assistance\, energy assistance\, etc.\n\n\n\nIf unable to attend\, feel free to contact Tracy or Lynn at:\n\n608-355-4810 to learn more.\n\n\n\nFor additional information about this Open House\, email:\n\nTerri Hanson: hansonterri9@gmail.com\n\nor Heather Cole at Ruth Culver Community Library: hcole@pdslibrary.org\n\nOr visit our website at: www.SaukPrairieLiteracy.Org
X-ALT-DESC;FMTTYPE=text/html:Special invitation to Current SPALC Tutors and Students and Prospective Tutors and Students<br />\n<br />\nOpen to Everyone in the Community<br />\n<br />\nDrop by for these exciting opportunities:\n<ul>\n	<li>New to SPALC: Learn more about SPALC and connect with volunteers\, learn how to get involved and make a difference!</li>\n	<li>Meet and talk to our SPALC Board Members</li>\n	<li>Speak to available (English and Spanish speaking) representatives to learn about:\n	<ul>\n		<li>The Madison College General Educational Development (GED) Program</li>\n		<li>WorkSmart Network and what services they offer in our area</li>\n		<li>Other great community resources</li>\n	</ul>\n	</li>\n	<li>Current Tutors: ask questions\, share your experiences with SPALC\; pick-up free tutoring materials</li>\n	<li>Enjoy Free Refreshments</li>\n</ul>\n<br />\nThe WorkSmart Network is a group of nonprofits\, technical colleges and business partners that come together to help individuals with employment.<br />\n<br />\nOffers one-on-one assistance and tailor our services to those we serve. Also assists with connections to other resources that offer additional support\, such as housing\, food\, child care assistance\, energy assistance\, etc.<br />\n<br />\nIf unable to attend\, feel free to contact Tracy or Lynn at:<br />\n608-355-4810 to learn more.<br />\n<br />\nFor additional information about this Open House\, email:<br />\nTerri Hanson: hansonterri9@gmail.com<br />\nor Heather Cole at Ruth Culver Community Library: hcole@pdslibrary.org<br />\nOr visit our website at: <a href="http://www.SaukPrairieLiteracy.Org">www.SaukPrairieLiteracy.Org</a>
LOCATION:Ruth Culver Community Library Community Room 540 Water Street\, Prairie du Sac
UID:e.1184.28727
SEQUENCE:3
DTSTAMP:20260421T033114Z
URL:http://members.saukprairie.com/events/details/spalc-open-house-28727
END:VEVENT

END:VCALENDAR
