BEGIN:VCALENDAR
VERSION:2.0
PRODID:-//ChamberMaster//Event Calendar 2.0//EN
METHOD:PUBLISH
X-PUBLISHED-TTL:P3D
REFRESH-INTERVAL:P3D
CALSCALE:GREGORIAN
BEGIN:VEVENT
DTSTART:20171117T010000Z
DTEND:20171117T030000Z
X-MICROSOFT-CDO-ALLDAYEVENT:FALSE
SUMMARY:Speaker's Program
DESCRIPTION:Author and historian Peter Shrake will speak about relations between Native Americans and the federal government from the fur trade period to the transfer of Badger lands to the Ho Chunk.
X-ALT-DESC;FMTTYPE=text/html:Author and historian Peter Shrake will speak about relations between Native Americans and the federal government from the fur trade period to the transfer of Badger lands to the Ho Chunk.
LOCATION:Museum of Badger Army Ammunition Off Highway 12 on the Sauk Prairie Recreation Area
UID:e.1184.14035
SEQUENCE:3
DTSTAMP:20260424T205111Z
URL:http://members.saukprairie.com/events/details/speaker-s-program-14035
END:VEVENT

END:VCALENDAR
