BEGIN:VCALENDAR
VERSION:2.0
PRODID:-//ChamberMaster//Event Calendar 2.0//EN
METHOD:PUBLISH
X-PUBLISHED-TTL:P3D
REFRESH-INTERVAL:P3D
CALSCALE:GREGORIAN
BEGIN:VEVENT
DTSTART;VALUE=DATE:20171024
DTEND;VALUE=DATE:20171025
TRANSP:TRANSPARENT
X-MICROSOFT-CDO-ALLDAYEVENT:TRUE
SUMMARY:Speakers' Program at the Museum
DESCRIPTION:We're really proud of the people who have agreed to inaugurate our speakers program. It kicks off with Joan Kenney on October 24 at 7:00 at the Museum. Joan started work as an Environmental Engineer at BAAP in 1989 and retired in 2015 after serving for 15 years as Commander's Representative. She will share her experiences working to protect and clean up the property while navigating through the decommissioning and demolition process.
X-ALT-DESC;FMTTYPE=text/html:We&rsquo\;re really proud of the people who have agreed to inaugurate our speakers program. It kicks off with Joan Kenney on October 24 at 7:00 at the Museum. Joan started work as an Environmental Engineer at BAAP in 1989 and retired in 2015 after serving for 15 years as Commander&rsquo\;s Representative. She will share her experiences working to protect and clean up the property while navigating through the decommissioning and demolition process.
LOCATION:Museum off US Hwy 12 On the Sauk Prairie Recreation Area
UID:e.1184.13958
SEQUENCE:3
DTSTAMP:20260424T221758Z
URL:http://members.saukprairie.com/events/details/speakers-program-at-the-museum-13958
END:VEVENT

END:VCALENDAR
