BEGIN:VCALENDAR
VERSION:2.0
PRODID:-//ChamberMaster//Event Calendar 2.0//EN
METHOD:PUBLISH
X-PUBLISHED-TTL:P3D
REFRESH-INTERVAL:P3D
CALSCALE:GREGORIAN
BEGIN:VEVENT
DTSTART:20200815T180000Z
DTEND:20200815T200000Z
X-MICROSOFT-CDO-ALLDAYEVENT:FALSE
SUMMARY:Spirits of Sauk Prairie
DESCRIPTION:Spirits of Sauk Prairie A living history cemetery tour\n\nFeaturing the voices of historic figures of the Sauk Prairie area\n\nSaturday\, August 15\, 2020 1 - 3 p.m.\n\nTickets available at the Sauk Prairie Area Historical Society J.S. Tripp Museum\n\n565 Water St\, Prairie Du Sac\, WI 53578
X-ALT-DESC;FMTTYPE=text/html:<p class="gmail-p1" style="margin:0in\;margin-bottom:.0001pt"><span class="gmail-s1"><i><span style="font-size:12.0pt\;font-family:&quot\;Century Gothic&quot\;\,sans-serif\;\ncolor:black">Spirits of Sauk Prairie&nbsp\;</span></i></span><span class="gmail-s2"><span style="font-size:9.0pt\;font-family:&quot\;Century Gothic&quot\;\,sans-serif\;color:black">A living history cemetery tour</span></span><span style="font-size:9.0pt\;\nfont-family:&quot\;Century Gothic&quot\;\,sans-serif\;color:black"><o:p></o:p></span></p>\n\n<p class="gmail-p1" style="margin:0in\;margin-bottom:.0001pt\;font-variant-numeric:normal\;\nfont-variant-east-asian:normal\;font-stretch:normal"><span class="gmail-s2"><span style="font-size:9.0pt\;font-family:&quot\;Century Gothic&quot\;\,sans-serif\;color:black">Featuring the voices of historic figures of the Sauk Prairie area</span></span><span style="font-size:9.0pt\;font-family:&quot\;Century Gothic&quot\;\,sans-serif\;color:black"><o:p></o:p></span></p>\n\n<p class="gmail-p1" style="margin:0in\;margin-bottom:.0001pt\;font-variant-numeric:normal\;\nfont-variant-east-asian:normal\;font-stretch:normal"><span class="gmail-s2"><span style="font-size:9.0pt\;font-family:&quot\;Century Gothic&quot\;\,sans-serif\;color:black">Saturday\, August 15\, 2020 1 - 3 p.m.</span></span><span style="font-size:9.0pt\;\nfont-family:&quot\;Century Gothic&quot\;\,sans-serif\;color:black"><o:p></o:p></span></p>\n\n<p class="gmail-p1" style="margin:0in\;margin-bottom:.0001pt\;font-variant-numeric:normal\;\nfont-variant-east-asian:normal\;font-stretch:normal"><span class="gmail-s2"><span style="font-size:9.0pt\;font-family:&quot\;Century Gothic&quot\;\,sans-serif\;color:black">Tickets available at the Sauk Prairie Area Historical Society J.S. Tripp Museum</span></span><span style="font-size:9.0pt\;font-family:&quot\;Century Gothic&quot\;\,sans-serif\;color:black"><o:p></o:p></span></p>\n\n<p class="gmail-p2" style="margin:0in\;margin-bottom:.0001pt\;font-variant-numeric:normal\;\nfont-variant-east-asian:normal\;font-stretch:normal"><span class="gmail-s2"><span style="font-size:9.0pt\;font-family:&quot\;Arial&quot\;\,sans-serif\;color:#1A1A1A">565 Water St\, Prairie Du Sac\, WI 53578</span></span><span style="font-size:9.0pt\;\nfont-family:&quot\;Arial&quot\;\,sans-serif\;color:#1A1A1A"><o:p></o:p></span></p>\n
LOCATION:
UID:e.1184.24356
SEQUENCE:3
DTSTAMP:20260422T182721Z
URL:http://members.saukprairie.com/events/details/spirits-of-sauk-prairie-24356
END:VEVENT

END:VCALENDAR
