BEGIN:VCALENDAR
VERSION:2.0
PRODID:-//ChamberMaster//Event Calendar 2.0//EN
METHOD:PUBLISH
X-PUBLISHED-TTL:P3D
REFRESH-INTERVAL:P3D
CALSCALE:GREGORIAN
BEGIN:VEVENT
DTSTART;VALUE=DATE:20191018
DTEND;VALUE=DATE:20191021
TRANSP:TRANSPARENT
X-MICROSOFT-CDO-ALLDAYEVENT:TRUE
SUMMARY:SPMS Drama Presents The Reluctant Dragon
DESCRIPTION:By Ed Monk based on the story by K. Grahame
X-ALT-DESC;FMTTYPE=text/html:By Ed Monk based on the story by K. Grahame<br />\n&nbsp\;
LOCATION:River Arts Center
UID:e.1184.23580
SEQUENCE:3
DTSTAMP:20260423T113640Z
URL:http://members.saukprairie.com/events/details/spms-drama-presents-the-reluctant-dragon-23580
END:VEVENT

END:VCALENDAR
