BEGIN:VCALENDAR
VERSION:2.0
PRODID:-//ChamberMaster//Event Calendar 2.0//EN
METHOD:PUBLISH
X-PUBLISHED-TTL:P3D
REFRESH-INTERVAL:P3D
CALSCALE:GREGORIAN
BEGIN:VEVENT
DTSTART:20171027T150000Z
DTEND:20171027T164500Z
X-MICROSOFT-CDO-ALLDAYEVENT:FALSE
SUMMARY:Spooktacular Free Friday Flick
DESCRIPTION:Come and see our Free Friday Flick at the library!\n\nThis month we have a spooky classic for you all! This PG film has a paranormal expert and his daughter are hired to rid an old house populated by three mischievous ghosts and one friendly one! To learn more\, call for the title at 608-643-8346.\n\nPopcorn and bottled water will be served. Adults must accompany children under 7.
X-ALT-DESC;FMTTYPE=text/html:<p>Come and see our Free Friday Flick at the library!</p>\n\n<p>This month we have a spooky classic for you all! This PG film has a paranormal expert and his daughter are hired to rid an old house populated by three mischievous ghosts and one friendly one! To learn more\, call for the title at 608-643-8346.</p>\n\n<p>Popcorn and bottled water will be served. Adults must accompany children under 7.</p>\n
LOCATION:
UID:e.1184.13975
SEQUENCE:3
DTSTAMP:20260424T222046Z
URL:http://members.saukprairie.com/events/details/spooktacular-free-friday-flick-13975
END:VEVENT

END:VCALENDAR
