BEGIN:VCALENDAR
VERSION:2.0
PRODID:-//ChamberMaster//Event Calendar 2.0//EN
METHOD:PUBLISH
X-PUBLISHED-TTL:P3D
REFRESH-INTERVAL:P3D
CALSCALE:GREGORIAN
BEGIN:VEVENT
DTSTART:20191025T180000Z
DTEND:20191025T200000Z
X-MICROSOFT-CDO-ALLDAYEVENT:FALSE
SUMMARY:Spooky Sock Buddies
DESCRIPTION:Kids can create their very own cat\, jack-o-lantern or spider sock buddies that they can take home just in time for Halloween! Children under 6 must be accompanied. Call 608-643-8346 or visit the library to sign up.
X-ALT-DESC;FMTTYPE=text/html:Kids can create their very own cat\, jack-o-lantern or spider sock buddies that they can take home just in time for Halloween! Children under 6 must be accompanied. Call 608-643-8346 or visit the library to sign up.
LOCATION:515 Water Street Sauk City\, WI 53583
UID:e.1184.23583
SEQUENCE:3
DTSTAMP:20260423T095140Z
URL:http://members.saukprairie.com/events/details/spooky-sock-buddies-23583
END:VEVENT

END:VCALENDAR
