BEGIN:VCALENDAR
VERSION:2.0
PRODID:-//ChamberMaster//Event Calendar 2.0//EN
METHOD:PUBLISH
X-PUBLISHED-TTL:P3D
REFRESH-INTERVAL:P3D
CALSCALE:GREGORIAN
BEGIN:VEVENT
DTSTART:20200325T193000Z
DTEND:20200325T213000Z
X-MICROSOFT-CDO-ALLDAYEVENT:FALSE
SUMMARY:Spring Break Movie
DESCRIPTION:Enjoy a spring break movie day at the Ruth Culver Community Library Wednesday\, March 25 at 2:30 p.m.  We're showing the latest movie with Elsa and Anna. Free popcorn provided! Contact Beth at 643-8318 with questions.
X-ALT-DESC;FMTTYPE=text/html:Enjoy a spring break movie day at the Ruth Culver Community Library Wednesday\, March 25 at 2:30 p.m.&nbsp\; We&#39\;re showing the latest movie with Elsa and Anna. Free popcorn provided! Contact Beth at 643-8318 with questions.
LOCATION:Ruth Culver Community Library 540 Water Street\, Prairie du Sac
UID:e.1184.23917
SEQUENCE:3
DTSTAMP:20260423T025816Z
URL:http://members.saukprairie.com/events/details/spring-break-movie-03-25-2020-23917
END:VEVENT

END:VCALENDAR
