BEGIN:VCALENDAR
VERSION:2.0
PRODID:-//ChamberMaster//Event Calendar 2.0//EN
METHOD:PUBLISH
X-PUBLISHED-TTL:P3D
REFRESH-INTERVAL:P3D
CALSCALE:GREGORIAN
BEGIN:VEVENT
DTSTART:20190326T183000Z
DTEND:20190326T203000Z
X-MICROSOFT-CDO-ALLDAYEVENT:FALSE
SUMMARY:Spring Break Movie
DESCRIPTION:Head to the Ruth Culver Community Library for a spring break movie Tuesday\, March 26 at 1:30 p.m.  We're showing the 2018 movie featuring the return of Ralph and Vanellope and their journey into the vast world of the internet. Free popcorn will be provided! Contact Beth at 643-8318 with questions.
X-ALT-DESC;FMTTYPE=text/html:Head to the Ruth Culver Community Library for a spring break movie Tuesday\, March 26 at 1:30 p.m.&nbsp\; We&#39\;re showing the 2018 movie featuring the return of Ralph and Vanellope and their journey into the vast world of the internet. Free popcorn will be provided! Contact Beth at 643-8318 with questions.
LOCATION:Ruth Culver Community Library 540 Water Street\, Prairie du Sac
UID:e.1184.22018
SEQUENCE:3
DTSTAMP:20260423T201600Z
URL:http://members.saukprairie.com/events/details/spring-break-movie-03-27-2019-22018
END:VEVENT

END:VCALENDAR
