BEGIN:VCALENDAR
VERSION:2.0
PRODID:-//ChamberMaster//Event Calendar 2.0//EN
METHOD:PUBLISH
X-PUBLISHED-TTL:P3D
REFRESH-INTERVAL:P3D
CALSCALE:GREGORIAN
BEGIN:VEVENT
DTSTART:20170329T180000Z
DTEND:20170329T200000Z
X-MICROSOFT-CDO-ALLDAYEVENT:FALSE
SUMMARY:Spring Break Movie
DESCRIPTION:Join us at the Ruth Culver Community Library for a spring break movie and popcorn. Contact the Library for movie title.
X-ALT-DESC;FMTTYPE=text/html:Join us at the Ruth Culver Community Library for a spring break movie and popcorn. Contact the Library for movie title.
LOCATION:Ruth Culver Community Library 540 Water St.\, Prairie du Sac
UID:e.1184.9927
SEQUENCE:3
DTSTAMP:20260425T110014Z
URL:http://members.saukprairie.com/events/details/spring-break-movie-9927
END:VEVENT

END:VCALENDAR
