BEGIN:VCALENDAR
VERSION:2.0
PRODID:-//ChamberMaster//Event Calendar 2.0//EN
METHOD:PUBLISH
X-PUBLISHED-TTL:P3D
REFRESH-INTERVAL:P3D
CALSCALE:GREGORIAN
BEGIN:VEVENT
DTSTART:20230310T190000Z
DTEND:20230310T210000Z
X-MICROSOFT-CDO-ALLDAYEVENT:FALSE
SUMMARY:Spring Break Movie : Strange World
DESCRIPTION:Start your Spring Break off right! Join us at the library for a showing for Strange World. We will provide freshly popped popcorn and drinks. Children under 6 must be accompanied.
X-ALT-DESC;FMTTYPE=text/html:Start your Spring Break off right! Join us at the library for a showing for Strange World. We will provide freshly popped popcorn and drinks. Children under 6 must be accompanied.
LOCATION:615 Phillips Blvd. Sauk City\, WI 53583
UID:e.1184.29923
SEQUENCE:3
DTSTAMP:20260420T164959Z
URL:http://members.saukprairie.com/events/details/spring-break-movie-strange-world-29923
END:VEVENT

END:VCALENDAR
