BEGIN:VCALENDAR
VERSION:2.0
PRODID:-//ChamberMaster//Event Calendar 2.0//EN
METHOD:PUBLISH
X-PUBLISHED-TTL:P3D
REFRESH-INTERVAL:P3D
CALSCALE:GREGORIAN
BEGIN:VEVENT
DTSTART:20200426T210000Z
DTEND:20200426T230000Z
X-MICROSOFT-CDO-ALLDAYEVENT:FALSE
SUMMARY:Spring Concert\, UWP BSC Campus Community Band
DESCRIPTION:Join Jerry Stich and the Campus Community Band for its Spring Concert 2020\n\n \n\nSunday\, 4 PM\, April 26 in the Theater on the UW Platteville Baraboo Sauk County Campus
X-ALT-DESC;FMTTYPE=text/html:Join Jerry Stich and the Campus Community Band for its Spring Concert 2020<br />\n&nbsp\;<br />\nSunday\, 4 PM\, April 26 in the Theater on the UW Platteville Baraboo Sauk County Campus
LOCATION:Theater on the UW Platteville Baraboo Sauk County Campus
UID:e.1184.24141
SEQUENCE:3
DTSTAMP:20260423T011923Z
URL:http://members.saukprairie.com/events/details/spring-concert-uwp-bsc-campus-community-band-24141
END:VEVENT

END:VCALENDAR
