BEGIN:VCALENDAR
VERSION:2.0
PRODID:-//ChamberMaster//Event Calendar 2.0//EN
METHOD:PUBLISH
X-PUBLISHED-TTL:P3D
REFRESH-INTERVAL:P3D
CALSCALE:GREGORIAN
BEGIN:VEVENT
DTSTART:20160527T233000Z
DTEND:20160529T040000Z
X-MICROSOFT-CDO-ALLDAYEVENT:FALSE
SUMMARY:Spring Fling Tractor Pull
DESCRIPTION:Spring Fling Tractor Pull
X-ALT-DESC;FMTTYPE=text/html:<p><span style="color: #0000cd"><span style="font-size: 14px"><strong>Spring Fling Tractor Pull</strong></span></span></p>\n\n<p><br />\n&nbsp\;</p>\n
LOCATION:SP Alumni Park in the Prairie du Sac Industrial Park 900 15th St -Pr du Sac
UID:e.1184.8422
SEQUENCE:3
DTSTAMP:20260426T032320Z
URL:http://members.saukprairie.com/events/details/spring-fling-tractor-pull-05-27-2016-8422
END:VEVENT

END:VCALENDAR
