BEGIN:VCALENDAR
VERSION:2.0
PRODID:-//ChamberMaster//Event Calendar 2.0//EN
METHOD:PUBLISH
X-PUBLISHED-TTL:P3D
REFRESH-INTERVAL:P3D
CALSCALE:GREGORIAN
BEGIN:VEVENT
DTSTART:20170321T210000Z
DTEND:20170322T010000Z
X-MICROSOFT-CDO-ALLDAYEVENT:FALSE
SUMMARY:Spring into Soup! Cookoff - Fundraiser for the Baraboo Food Pantry!!
DESCRIPTION:Celebrate Spring by cooking up a batch of soup for a great cause! Enter a Crock pot of your favorite soup recipe and if yours takes first place\, you will win a $50 Gas Card! And the Baraboo Food Pantry will receive your $10 entry fee and non-perishable food donations.\n\n\n\nJoin us Tuesday\, March 21 at 4pm as Bug Tussel Wireless and Con Amici Wine Bar sponsor the first annual Spring into Soup! Cookoff - Fundraiser for the Baraboo Food Pantry.\n\n\n\nThere are 2 ways to participate:\n\n\n\n1) Enter your amazing soup for only a $10 donation to the Baraboo Food Pantry. Donation is payable at the event. Please call 608-402-2848 to reserve your spot today!\n\n\n\n2) Judge & Eat soup entries by bringing a non-perishable food or monetary donation for the Baraboo Food Pantry.\n\n\n\nHope to see y'all there!
X-ALT-DESC;FMTTYPE=text/html:Celebrate Spring by cooking up a batch of soup for a great cause! Enter a Crock pot of your favorite soup recipe and if yours takes first place\, you will win a $50 Gas Card! And the Baraboo Food Pantry will receive your $10 entry fee and non-perishable food donations.<br />\n<br />\nJoin us Tuesday\, March 21 at 4pm as Bug Tussel Wireless and Con Amici Wine Bar sponsor the first annual Spring into Soup! Cookoff - Fundraiser for the Baraboo Food Pantry.<br />\n<br />\nThere are 2 ways to participate:<br />\n<br />\n1) Enter your amazing soup for only a $10 donation to the Baraboo Food Pantry. Donation is payable at the event. Please call 608-402-2848 to reserve your spot today!<br />\n<br />\n2) Judge &amp\; Eat soup entries by bringing a non-perishable food or monetary donation for the Baraboo Food Pantry.<br />\n<br />\nHope to see y&#39\;all there!
LOCATION:Con Amici Wine Bar 126 3rd Street Baraboo\, WI 53913
UID:e.1184.10272
SEQUENCE:3
DTSTAMP:20260425T110334Z
URL:http://members.saukprairie.com/events/details/spring-into-soup-cookoff-fundraiser-for-the-baraboo-food-pantry-10272
END:VEVENT

END:VCALENDAR
