BEGIN:VCALENDAR
VERSION:2.0
PRODID:-//ChamberMaster//Event Calendar 2.0//EN
METHOD:PUBLISH
X-PUBLISHED-TTL:P3D
REFRESH-INTERVAL:P3D
CALSCALE:GREGORIAN
BEGIN:VEVENT
DTSTART:20180523T163000Z
DTEND:20180524T010000Z
X-MICROSOFT-CDO-ALLDAYEVENT:FALSE
SUMMARY:Spring Swing - Lake Wisconsin Country Club 2018
DESCRIPTION:Please Join Us "Fore" a Fun Afternoon of Golf & Networking with the Sauk Prairie Area Chamber of Commerce Members.  Click here for the form.
X-ALT-DESC;FMTTYPE=text/html:Please Join Us &quot\;Fore&quot\; a Fun Afternoon of Golf &amp\; Networking with the Sauk Prairie Area Chamber of Commerce Members.&nbsp\; <a href="https://chambermaster.blob.core.windows.net/userfiles/UserFiles/chambers/1184/File/2018Form.pdf">Click here for the form.</a><br />\n<br />\n&nbsp\;
LOCATION:Lake Wisconsin Country Club
UID:e.1184.14006
SEQUENCE:3
DTSTAMP:20260424T112541Z
URL:http://members.saukprairie.com/events/details/spring-swing-lake-wisconsin-country-club-2018-14006
END:VEVENT

END:VCALENDAR
