BEGIN:VCALENDAR
VERSION:2.0
PRODID:-//ChamberMaster//Event Calendar 2.0//EN
METHOD:PUBLISH
X-PUBLISHED-TTL:P3D
REFRESH-INTERVAL:P3D
CALSCALE:GREGORIAN
BEGIN:VEVENT
DTSTART:20190522T163000Z
DTEND:20190523T010000Z
X-MICROSOFT-CDO-ALLDAYEVENT:FALSE
SUMMARY:Spring Swing - Lake Wisconsin Country Club 2019
DESCRIPTION:Please Join Us "Fore" a Fun Afternoon of Golf & Networking with the Sauk Prairie Area Chamber of Commerce Members. \n\n\n\nClick here for the form!
X-ALT-DESC;FMTTYPE=text/html:Please Join Us &quot\;Fore&quot\; a Fun Afternoon of Golf &amp\; Networking with the Sauk Prairie Area Chamber of Commerce Members.&nbsp\;<br />\n<br />\n<a href="https://chambermaster.blob.core.windows.net/userfiles/UserFiles/chambers/1184/File/2019Form.pdf">Click here for the form!</a>
LOCATION:Lake Wisconsin Country Club
UID:e.1184.21518
SEQUENCE:3
DTSTAMP:20260423T172000Z
URL:http://members.saukprairie.com/events/details/spring-swing-lake-wisconsin-country-club-2019-21518
END:VEVENT

END:VCALENDAR
