BEGIN:VCALENDAR
VERSION:2.0
PRODID:-//ChamberMaster//Event Calendar 2.0//EN
METHOD:PUBLISH
X-PUBLISHED-TTL:P3D
REFRESH-INTERVAL:P3D
CALSCALE:GREGORIAN
BEGIN:VEVENT
DTSTART;VALUE=DATE:20240419
DTEND;VALUE=DATE:20240420
TRANSP:TRANSPARENT
X-MICROSOFT-CDO-ALLDAYEVENT:TRUE
SUMMARY:Springtime at Wollersheim - Bistro Wine Dinner
DESCRIPTION:Springtime at Wollersheim   Bistro Wine Dinner  | Friday\, April 19\, 2024\n\nJoin us for an exceptional evening of seasonal food paired with white wines grown on the estate. The meal will be prepared by Chef Romain Coquard and the Bistro team using fresh\, local ingredients.\n\nThe evening will begin with a cash bar in our Bistro from 5:30 to 6:15 and will continue with a delicious dinner in our Sugarloaf Room\, with each course paired with a wine.\n\nPrice: $95 includes Dinner\, Wine and Gratuity (Sales tax & booking fee additional)\n\nReserve tickets for the Springtime at Wollersheim Bistro Dinner.\n\nTables: Guests may be seated together. If you have friends you'd like to be seated with\, please note that or contact us at info@wollersheim.com to seat you together.\n\nDress: Dressy Casual Attire\n\nSpringtime at Wollersheim Dinner Menu\n\nAmuse Bouche\n\nSmoked beef tenderloin\, toasted baguette\, horseradish cream and microgreens\n\nFirst Course\n\nWatercress salad with pickled radish\, spring peas\, beet marinated soft boiled egg\, cider vinaigrette\n\nEagle White wine\n\nSecond Course\n\nSuperior Fresh salmon\, Great Lakes wild rice\, grilled local asparagus\, ramp and morel mushroom cream\n\nSt. Pepin wine\n\nThird Course\n\nRhubarb and honey panna cotta with roasted rhubarb\, pistachio\, ginger snap and creme fraiche\n\nIce wine\n\nReserve tickets for the Springtime at Wollersheim- Bistro Wine Dinner.
X-ALT-DESC;FMTTYPE=text/html:<p>Springtime at Wollersheim &ndash\; Bistro Wine Dinner&nbsp\; |&nbsp\;Friday\, April 19\, 2024</p>\n\n<p>Join us for an exceptional evening of seasonal food paired with white wines grown on the estate. The meal will be prepared by Chef Romain Coquard and the Bistro team using fresh\, local ingredients.</p>\n\n<p>The evening will begin with a cash bar in our Bistro from 5:30 to 6:15 and will continue with a delicious dinner in our Sugarloaf Room\, with each course paired with a wine.</p>\n\n<p>Price:&nbsp\;$95 includes Dinner\, Wine and Gratuity&nbsp\;(Sales tax &amp\; booking fee additional)</p>\n\n<p><u><strong><a href="https://fareharbor.com/embeds/book/wollersheim/items/466162/?full-items=yes&amp\;flow=19071&amp\;u=84e53b8d-06b5-4e42-8fbf-6c09ca0d4e53&amp\;from-ssl=yes&amp\;ga4t=G-K1BR24NMML%2C1343336659.1706035737__1712755574%3B&amp\;g4=yes&amp\;cp=no&amp\;csp=no&amp\;back=https%3A%2F%2Fwww.wollersheim.com%2Fevents%2Fpublic-events%2F">Reserve tickets for the Springtime at Wollersheim Bistro Dinner.</a></strong></u></p>\n\n<p>Tables:&nbsp\;Guests may be seated together. If you have friends you&rsquo\;d like to be seated with\, please note that or contact us at info@wollersheim.com to seat you together.</p>\n\n<p>Dress: Dressy Casual Attire</p>\n\n<p>Springtime at Wollersheim Dinner Menu</p>\n\n<p>Amuse Bouche<br />\nSmoked beef tenderloin\, toasted baguette\, horseradish cream and microgreens</p>\n\n<p>First Course<br />\nWatercress salad with pickled radish\, spring peas\, beet marinated soft boiled egg\, cider vinaigrette<br />\nEagle White wine</p>\n\n<p>Second Course<br />\nSuperior Fresh salmon\, Great Lakes wild rice\, grilled local asparagus\, ramp and morel mushroom cream<br />\nSt. Pepin wine</p>\n\n<p>Third Course<br />\nRhubarb and honey panna cotta with roasted rhubarb\, pistachio\, ginger snap and creme fraiche<br />\nIce wine</p>\n\n<p><a href="https://fareharbor.com/embeds/book/wollersheim/items/466162/?full-items=yes&amp\;flow=19071&amp\;u=84e53b8d-06b5-4e42-8fbf-6c09ca0d4e53&amp\;from-ssl=yes&amp\;ga4t=G-K1BR24NMML%2C1343336659.1706035737__1712755574%3B&amp\;g4=yes&amp\;cp=no&amp\;csp=no&amp\;back=https%3A%2F%2Fwww.wollersheim.com%2Fevents%2Fpublic-events%2F&amp\;language=en-us">Reserve tickets for the Springtime at Wollersheim- Bistro Wine Dinner</a><a href="https://fareharbor.com/embeds/book/wollersheim/items/466162/?full-items=yes&amp\;flow=19071">.</a></p>\n
LOCATION:Wollersheim Winery
UID:e.1184.32333
SEQUENCE:3
DTSTAMP:20260419T221046Z
URL:http://members.saukprairie.com/events/details/springtime-at-wollersheim-bistro-wine-dinner-32333
END:VEVENT

END:VCALENDAR
