BEGIN:VCALENDAR
VERSION:2.0
PRODID:-//ChamberMaster//Event Calendar 2.0//EN
METHOD:PUBLISH
X-PUBLISHED-TTL:P3D
REFRESH-INTERVAL:P3D
CALSCALE:GREGORIAN
BEGIN:VEVENT
DTSTART:20241025T200000Z
DTEND:20241025T204500Z
X-MICROSOFT-CDO-ALLDAYEVENT:FALSE
SUMMARY:Spy escape Room: Teen Edition
DESCRIPTION:Attention\, super spies! Your skills are needed for a top-secret mission right here at the library. Crack the code\, solve puzzles\, and break out of "Operation Library Recon\," the ultimate spy-themed escape room designed exclusively for teens. Registration Required. Call or stop in to sign up. Geared for Ages 13-17.
X-ALT-DESC;FMTTYPE=text/html:Attention\, super spies! Your skills are needed for a top-secret mission right here at the library. Crack the code\, solve puzzles\, and break out of &ldquo\;Operation Library Recon\,&rdquo\; the ultimate spy-themed escape room designed exclusively for teens. Registration Required. Call or stop in to sign up. Geared for Ages 13-17.
LOCATION:George Culver Community Library - Sauk City
UID:e.1184.33461
SEQUENCE:3
DTSTAMP:20260419T144240Z
URL:http://members.saukprairie.com/events/details/spy-escape-room-teen-edition-33461
END:VEVENT

END:VCALENDAR
