BEGIN:VCALENDAR
VERSION:2.0
PRODID:-//ChamberMaster//Event Calendar 2.0//EN
METHOD:PUBLISH
X-PUBLISHED-TTL:P3D
REFRESH-INTERVAL:P3D
CALSCALE:GREGORIAN
BEGIN:VEVENT
DTSTART:20161110T230000Z
DTEND:20161111T010000Z
X-MICROSOFT-CDO-ALLDAYEVENT:FALSE
SUMMARY:SPYC Social
DESCRIPTION:Join the Sauk Prairie Young Connections for a Social at the Woodshed Ale House.\n\n	Social\n	Beer tastings for $10 to taste 5 different beers\n	Band starts at 7pm so stay for the fun!\n	\n		Gin Mill Hollow\n	\n	\n\nRSVP to spacc@saukprairie.com
X-ALT-DESC;FMTTYPE=text/html:Join the Sauk Prairie Young Connections for a Social at the Woodshed Ale House.\n<ul>\n	<li>Social</li>\n	<li>Beer tastings for $10 to taste 5 different beers</li>\n	<li>Band starts at 7pm so stay for the fun!\n	<ul>\n		<li>Gin Mill Hollow</li>\n	</ul>\n	</li>\n</ul>\nRSVP to spacc@saukprairie.com
LOCATION:Woodshed Ale House 101 Jackson Street Sauk City\, WI 53583
UID:e.1184.9445
SEQUENCE:3
DTSTAMP:20260425T160822Z
URL:http://members.saukprairie.com/events/details/spyc-social-9445
END:VEVENT

END:VCALENDAR
