BEGIN:VCALENDAR
VERSION:2.0
PRODID:-//ChamberMaster//Event Calendar 2.0//EN
METHOD:PUBLISH
X-PUBLISHED-TTL:P3D
REFRESH-INTERVAL:P3D
CALSCALE:GREGORIAN
BEGIN:VEVENT
DTSTART:20170907T203000Z
DTEND:20170907T223000Z
X-MICROSOFT-CDO-ALLDAYEVENT:FALSE
SUMMARY:SPYC Wollersheim Distillery Tour
DESCRIPTION:Join the Sauk Prairie Young Connections for a Wollersheim Distillery Tour with Distiller Tom. Includes a tasting of 3 spirits and a cocktail.\n\n\n\nEveryone is welcome! RSVP to spacc@saukprairie.com
X-ALT-DESC;FMTTYPE=text/html:Join the Sauk Prairie Young Connections for a Wollersheim Distillery Tour with Distiller Tom. Includes a tasting of 3 spirits and a cocktail.<br />\n<br />\nEveryone is welcome! RSVP to spacc@saukprairie.com&nbsp\;
LOCATION:Wollersheim Distillery
UID:e.1184.11855
SEQUENCE:3
DTSTAMP:20260425T000532Z
URL:http://members.saukprairie.com/events/details/spyc-wollersheim-distillery-tour-11855
END:VEVENT

END:VCALENDAR
