BEGIN:VCALENDAR
VERSION:2.0
PRODID:-//ChamberMaster//Event Calendar 2.0//EN
METHOD:PUBLISH
X-PUBLISHED-TTL:P3D
REFRESH-INTERVAL:P3D
CALSCALE:GREGORIAN
BEGIN:VEVENT
DTSTART:20180625T160000Z
DTEND:20180625T230000Z
X-MICROSOFT-CDO-ALLDAYEVENT:FALSE
SUMMARY:St. Al's Festival & Auction
DESCRIPTION:St. Al's Festival featuring Pork Chop Dinner with all the fixings. A live auction by our local Ron Loether\, a raffle drawing with over 40 prizes\, kids games\, ball tournament. Great Family Fun!
X-ALT-DESC;FMTTYPE=text/html:St. Al&#39\;s Festival featuring Pork Chop Dinner with all the fixings. A live auction by our local Ron Loether\, a raffle drawing with over 40 prizes\, kids games\, ball tournament. Great Family Fun!
LOCATION:115 Madison Street\, Sauk City\, WI 53583
UID:e.1184.14679
SEQUENCE:3
DTSTAMP:20260424T101014Z
URL:http://members.saukprairie.com/events/details/st-al-s-festival-auction-14679
END:VEVENT

END:VCALENDAR
