BEGIN:VCALENDAR
VERSION:2.0
PRODID:-//ChamberMaster//Event Calendar 2.0//EN
METHOD:PUBLISH
X-PUBLISHED-TTL:P3D
REFRESH-INTERVAL:P3D
CALSCALE:GREGORIAN
BEGIN:VEVENT
DTSTART;VALUE=DATE:20240331
DTEND;VALUE=DATE:20240401
TRANSP:TRANSPARENT
X-MICROSOFT-CDO-ALLDAYEVENT:TRUE
SUMMARY:St. James Lutheran Church Easter Celebration
DESCRIPTION:St. James Lutheran Church Easter Celebration\n\n\n\nJoin us for Easter Sunday Breakfast Sunday\, March 31st\, 2024 @ 8 am\n\n\n\nStay for Easter Worship Sunday\, March 31\, 2024 @ 9 am
X-ALT-DESC;FMTTYPE=text/html:St. James Lutheran Church Easter Celebration<br />\n<br />\nJoin us for Easter Sunday Breakfast Sunday\, March 31st\, 2024 @ 8 am<br />\n<br />\nStay for Easter Worship Sunday\, March 31\, 2024 @ 9 am<br />\n&nbsp\;
LOCATION:St. James Lutheran Church
UID:e.1184.31566
SEQUENCE:3
DTSTAMP:20260419T231942Z
URL:http://members.saukprairie.com/events/details/st-james-lutheran-church-easter-celebration-31566
END:VEVENT

END:VCALENDAR
