BEGIN:VCALENDAR
VERSION:2.0
PRODID:-//ChamberMaster//Event Calendar 2.0//EN
METHOD:PUBLISH
X-PUBLISHED-TTL:P3D
REFRESH-INTERVAL:P3D
CALSCALE:GREGORIAN
BEGIN:VEVENT
DTSTART:20211105T220000Z
DTEND:20211106T010000Z
X-MICROSOFT-CDO-ALLDAYEVENT:FALSE
SUMMARY:St. Luke's Fish Fry
DESCRIPTION:Come Enjoy St. Luke's Fish Fry!\n\n\n\nFRIDAY\, NOVEMBER 5\n\nALL YOU CAN EAT\n\nSERVING FROM 5:00 TO 8:00 PM\n\n\n\nDeep-fried haddock\, fried potatoes\, coleslaw\, French bread\, dessert\, and beverage\n\n\n\nHANDICAP ACCESSIBLE\n\n\n\n$15.00 Adults / $8.00 ages 6-12\n\n5 & Under $2.00
X-ALT-DESC;FMTTYPE=text/html:Come Enjoy St. Luke&#39\;s Fish Fry!<br />\n<br />\nFRIDAY\, NOVEMBER 5<br />\nALL YOU CAN EAT<br />\nSERVING FROM 5:00 TO 8:00 PM<br />\n<br />\nDeep-fried haddock\, fried potatoes\, coleslaw\, French bread\, dessert\, and beverage<br />\n<br />\nHANDICAP ACCESSIBLE<br />\n<br />\n$15.00 Adults / $8.00 ages 6-12<br />\n5 &amp\; Under $2.00
LOCATION:1240 Nachreiner Avenue Plain\, WI
UID:e.1184.26918
SEQUENCE:3
DTSTAMP:20260421T202844Z
URL:http://members.saukprairie.com/events/details/st-luke-s-fish-fry-26918
END:VEVENT

END:VCALENDAR
