BEGIN:VCALENDAR
VERSION:2.0
PRODID:-//ChamberMaster//Event Calendar 2.0//EN
METHOD:PUBLISH
X-PUBLISHED-TTL:P3D
REFRESH-INTERVAL:P3D
CALSCALE:GREGORIAN
BEGIN:VEVENT
DTSTART:20220612T150000Z
DTEND:20220613T000000Z
X-MICROSOFT-CDO-ALLDAYEVENT:FALSE
SUMMARY:St Luke's Parish Festival
DESCRIPTION:Gather on the church grounds and celebrate with food\, fun\, and friendship!\n\n\n\nMass: 10:00am\n\n\n\nBeef & Hamburger Stand: 11:00am-7:00pm\n\n\n\nChicken BBQ: drive thru 11:00am until sold out\n\n    $15\n\n    Pick up by School Garage on Cherry St\n\n    Includes: 1/2 chicken\, baby red potatoes\, special baked\n\n                    beans\, coleslaw\, bread & a slice of pie\n\n\n\nPetting Zoo: 11:00am-2:00pm\n\n\n\nKids Games: 11:30am-4:30pm\n\n\n\nEuchre: 11:30am-2:30pm\n\n\n\nBean Bags: 11:30am-4pm\n\n\n\nLive Music from Alpine Blast: 1:00pm-4:00pm\n\n\n\nPie Auction: 2:00pm-3:00pm\n\n\n\nPaddle Wheel: 3:00pm-5:00pm\n\n\n\nBingo: 3:00pm-5:00pm\n\n\n\nRaffle: Drawing at 5:00pm\n\n    Grand prize $5\,000 & many more great prizes\n\n\n\nOnline Auction: biddingforgood.com/stlukecc\n\n\n\nFor more information\, email stlukefestival@gmail.com\, call (608) 546-2482\, stlukecatholicchurchplain.com\, or Facebook St Luke's Sommerfest
X-ALT-DESC;FMTTYPE=text/html:Gather on the church grounds and celebrate with food\, fun\, and friendship!<br />\n<br />\nMass: 10:00am<br />\n<br />\nBeef &amp\; Hamburger Stand: 11:00am-7:00pm<br />\n<br />\nChicken BBQ: drive thru 11:00am until sold out<br />\n&nbsp\; &nbsp\; $15<br />\n&nbsp\;&nbsp\;&nbsp\;&nbsp\;Pick up by School Garage on Cherry St<br />\n&nbsp\; &nbsp\; Includes: 1/2 chicken\, baby red potatoes\, special baked<br />\n&nbsp\;&nbsp\;&nbsp\;&nbsp\;&nbsp\;&nbsp\;&nbsp\;&nbsp\;&nbsp\;&nbsp\;&nbsp\;&nbsp\;&nbsp\;&nbsp\;&nbsp\;&nbsp\;&nbsp\;&nbsp\;&nbsp\;&nbsp\;beans\, coleslaw\, bread &amp\; a slice of pie<br />\n<br />\nPetting Zoo: 11:00am-2:00pm<br />\n<br />\nKids Games: 11:30am-4:30pm<br />\n<br />\nEuchre: 11:30am-2:30pm<br />\n<br />\nBean Bags: 11:30am-4pm<br />\n<br />\nLive Music from Alpine Blast: 1:00pm-4:00pm<br />\n<br />\nPie Auction: 2:00pm-3:00pm<br />\n<br />\nPaddle Wheel: 3:00pm-5:00pm<br />\n<br />\nBingo: 3:00pm-5:00pm<br />\n<br />\nRaffle: Drawing at 5:00pm<br />\n&nbsp\; &nbsp\; Grand prize $5\,000 &amp\; many more great prizes<br />\n<br />\nOnline Auction: biddingforgood.com/stlukecc<br />\n<br />\nFor more information\, email stlukefestival@gmail.com\, call (608) 546-2482\, stlukecatholicchurchplain.com\, or Facebook St Luke&#39\;s Sommerfest
LOCATION:St\, Luke's Catholic Church: 1240 Nachreiner Ave\, Plain
UID:e.1184.27952
SEQUENCE:3
DTSTAMP:20260421T120429Z
URL:http://members.saukprairie.com/events/details/st-luke-s-parish-festival-27952
END:VEVENT

END:VCALENDAR
