BEGIN:VCALENDAR
VERSION:2.0
PRODID:-//ChamberMaster//Event Calendar 2.0//EN
METHOD:PUBLISH
X-PUBLISHED-TTL:P3D
REFRESH-INTERVAL:P3D
CALSCALE:GREGORIAN
BEGIN:VEVENT
DTSTART:20230219T170000Z
DTEND:20230219T193000Z
X-MICROSOFT-CDO-ALLDAYEVENT:FALSE
SUMMARY:St. Norbert CCW DRIVE-THRU Pork Chop Dinner
DESCRIPTION:St. Norbert's CCW will be having a DRIVE-THRU Pork Chop Dinner on Sunday\, February 19\, 2023. Dinners are $15 and include a marinated boneless pork chop seasoned with BBQ rub from Wood BBQ Catering\, baked potato\, corn\, applesauce\, dinner roll\, and dessert. Boneless Chops only are available for $10 and there is a $3 hot dog meal available for kids. This event is PRE-ORDER ONLY at https://www.stnorbertccw.com/ or by phone: 608-393-6012 or 608-643-8108. Orders MUST BE PLACED by Sunday\, February 12\, end of day.
X-ALT-DESC;FMTTYPE=text/html:St. Norbert&rsquo\;s CCW will be having a DRIVE-THRU Pork Chop Dinner on Sunday\, February 19\, 2023. Dinners are $15 and include a marinated boneless pork chop seasoned with BBQ rub from Wood BBQ Catering\, baked potato\, corn\, applesauce\, dinner roll\, and dessert. Boneless Chops only are available for $10 and there is a $3 hot dog meal available for kids. This event is PRE-ORDER ONLY at https://www.stnorbertccw.com/ or by phone: 608-393-6012 or 608-643-8108. Orders MUST BE PLACED by Sunday\, February 12\, end of day.
LOCATION:St. Norbert Catholic Church 8944 County Hwy Y Roxbury
UID:e.1184.29913
SEQUENCE:3
DTSTAMP:20260420T180336Z
URL:http://members.saukprairie.com/events/details/st-norbert-ccw-drive-thru-pork-chop-dinner-29913
END:VEVENT

END:VCALENDAR
