BEGIN:VCALENDAR
VERSION:2.0
PRODID:-//ChamberMaster//Event Calendar 2.0//EN
METHOD:PUBLISH
X-PUBLISHED-TTL:P3D
REFRESH-INTERVAL:P3D
CALSCALE:GREGORIAN
BEGIN:VEVENT
DTSTART:20180211T170000Z
DTEND:20180211T200000Z
X-MICROSOFT-CDO-ALLDAYEVENT:FALSE
SUMMARY:St. Norbert CCW Pork Chop Dinner
DESCRIPTION:St. Norbert's Parish Hall\, Roxbury Sunday\, February 11\, 2018 Serving 11:00   2:00.\n\n\n\nTickets at Door - $12. Kids Hotdog Meal - $3.\n\n\n\nCome and join us for a delicious hot pork chop dinner with baked potatoes\, German potato salad\, green beans\, and more!\n\n\n\nCarry outs available!
X-ALT-DESC;FMTTYPE=text/html:<span style="font-family: &quot\;Arial&quot\;\,sans-serif\; font-size: 10pt\; mso-fareast-font-family: &quot\;Times New Roman&quot\;\; mso-ansi-language: EN-US\; mso-fareast-language: EN-US\; mso-bidi-language: AR-SA\;"><font color="#000000">St. Norbert&rsquo\;s Parish Hall\, Roxbury Sunday\, February 11\, 2018 Serving 11:00 &ndash\; 2:00.<br />\n<br />\nTickets at Door - $12. Kids Hotdog Meal -&nbsp\;$3.<br />\n<br />\nCome and join us for a delicious hot pork chop dinner with baked potatoes\, German potato salad\, green beans\, and more!<br />\n<br />\nCarry outs available!</font></span>
LOCATION:St. Norbert's Parish Hall\, Roxbury
UID:e.1184.14625
SEQUENCE:3
DTSTAMP:20260424T161422Z
URL:http://members.saukprairie.com/events/details/st-norbert-ccw-pork-chop-dinner-14625
END:VEVENT

END:VCALENDAR
