BEGIN:VCALENDAR
VERSION:2.0
PRODID:-//ChamberMaster//Event Calendar 2.0//EN
METHOD:PUBLISH
X-PUBLISHED-TTL:P3D
REFRESH-INTERVAL:P3D
CALSCALE:GREGORIAN
BEGIN:VEVENT
DTSTART:20220227T170000Z
DTEND:20220227T193000Z
X-MICROSOFT-CDO-ALLDAYEVENT:FALSE
SUMMARY:St. Norbert Drive-Through Pork Chop Dinner ((PRE-ORDER only)
DESCRIPTION:St. Norbert's CCW (Council of Catholic Women) will be having a DRIVE-THRU Pork Chop Dinner on Sunday\, February 27\, 2022. * This event is PRE-ORDER ONLY. Purchase online at https://www.stnorbertccw.com/ or by phone: 608-393-6012. * Orders MUST BE PLACED by Sunday\, February 20\, end of day.
X-ALT-DESC;FMTTYPE=text/html:St. Norbert&rsquo\;s CCW (Council of Catholic Women) will be having a DRIVE-THRU Pork Chop Dinner on Sunday\, February 27\, 2022. * This event is PRE-ORDER ONLY. Purchase online at https://www.stnorbertccw.com/ or by phone: 608-393-6012. * Orders MUST BE PLACED by Sunday\, February 20\, end of day.
LOCATION:Dinners will be picked up at St. Norbert Church\, 8944 County Hwy Y\, Roxbury
UID:e.1184.27137
SEQUENCE:3
DTSTAMP:20260421T173026Z
URL:http://members.saukprairie.com/events/details/st-norbert-drive-through-pork-chop-dinner-pre-order-only-27137
END:VEVENT

END:VCALENDAR
