BEGIN:VCALENDAR
VERSION:2.0
PRODID:-//ChamberMaster//Event Calendar 2.0//EN
METHOD:PUBLISH
X-PUBLISHED-TTL:P3D
REFRESH-INTERVAL:P3D
CALSCALE:GREGORIAN
BEGIN:VEVENT
DTSTART:20210228T170000Z
DTEND:20210228T200000Z
X-MICROSOFT-CDO-ALLDAYEVENT:FALSE
SUMMARY:St. Norbert's CCW DRIVE-THRU Pork Chop Dinner
DESCRIPTION:Featuring 16 oz. Boneless Pork Chops\, marinated and seasoned with BBQ rub\, from Wood BBQ Catering. * This event is PRE-ORDER ONLY at https://www.stnorbertccw.com/ or by phone: 608-393-6012 * Orders MUST BE PLACED by Sunday\, February 21\, end of day THANK YOU for supporting St. Norbert's CCW. Proceeds benefit the CCW group which in turn donates within the local community\; food pantry\, CareNet\, 6:8\, St. Al school fundraisers\, and various others.
X-ALT-DESC;FMTTYPE=text/html:Featuring 16 oz. Boneless Pork Chops\, marinated and seasoned with BBQ rub\, from Wood BBQ Catering. * This event is PRE-ORDER ONLY at https://www.stnorbertccw.com/ or by phone: 608-393-6012 * Orders MUST BE PLACED by Sunday\, February 21\, end of day THANK YOU for supporting St. Norbert&#39\;s CCW. Proceeds benefit the CCW group which in turn donates within the local community\; food pantry\, CareNet\, 6:8\, St. Al school fundraisers\, and various others.
LOCATION:Pick-up at St. Norbert Church 8944 County Hwy Y Sauk City\, WI 53583
UID:e.1184.26441
SEQUENCE:3
DTSTAMP:20260422T104308Z
URL:http://members.saukprairie.com/events/details/st-norbert-s-ccw-drive-thru-pork-chop-dinner-26441
END:VEVENT

END:VCALENDAR
