BEGIN:VCALENDAR
VERSION:2.0
PRODID:-//ChamberMaster//Event Calendar 2.0//EN
METHOD:PUBLISH
X-PUBLISHED-TTL:P3D
REFRESH-INTERVAL:P3D
CALSCALE:GREGORIAN
BEGIN:VEVENT
DTSTART;VALUE=DATE:20170823
DTEND;VALUE=DATE:20170824
TRANSP:TRANSPARENT
X-MICROSOFT-CDO-ALLDAYEVENT:TRUE
SUMMARY:St. Vincent de Paul School Supply Distribution
DESCRIPTION:St. Vincent de Paul will be giving out school supplies for children in the Sauk Prairie School District.\n\n\n\nApplications are available on our website: stvdpsaukprairie.com.\n\nApplications can be picked up in advance at: St. Vincent de Paul Community Store 815 19th Street  or St. Vincent de Paul Resource Center 1906 North Street.\n\n\n\nRequirements:\n\n	Proof of residency (a rental lease or utility bill)\n	Proof of financial need (a pay stub from unemployment\, disability\, or social security)\n\nBring school supply lists for each child to enable us to know what is needed.\n\n\n\nQuestions: Call 644.0508 ext. 10
X-ALT-DESC;FMTTYPE=text/html:St. Vincent de Paul will be giving out school supplies for children in the Sauk Prairie School District.<br />\n<br />\nApplications are available on our website: stvdpsaukprairie.com.<br />\nApplications can be picked up in advance at: St. Vincent de Paul Community Store 815 19th Street &nbsp\;or St. Vincent de Paul Resource Center 1906 North Street.<br />\n<br />\nRequirements:\n<ul>\n	<li>Proof of residency (a rental lease or utility bill)</li>\n	<li>Proof of financial need (a pay stub from unemployment\, disability\, or social security)</li>\n</ul>\nBring school supply lists for each child to enable us to know what is needed.<br />\n<br />\nQuestions: Call 644.0508 ext. 10
LOCATION:St. Vincent de Paul Resource Center 1906 North St. PDS
UID:e.1184.11849
SEQUENCE:3
DTSTAMP:20260425T014552Z
URL:http://members.saukprairie.com/events/details/st-vincent-de-paul-school-supply-distribution-11849
END:VEVENT

END:VCALENDAR
