BEGIN:VCALENDAR
VERSION:2.0
PRODID:-//ChamberMaster//Event Calendar 2.0//EN
METHOD:PUBLISH
X-PUBLISHED-TTL:P3D
REFRESH-INTERVAL:P3D
CALSCALE:GREGORIAN
BEGIN:VEVENT
DTSTART:20190716T230000Z
DTEND:20190717T010000Z
X-MICROSOFT-CDO-ALLDAYEVENT:FALSE
SUMMARY:Stamp Like a Champ: Printing with Chickadiddy Arts
DESCRIPTION:Stamp Like a Champ: Linoleum Block Printing with Chickadiddy\n\nTuesday\, July 16\, 2019 | 6-8pm | Ages 14+\n\n590 Water St\, Prairie du Sac\, WI 53578\n\n\n\n	Learn to carve and print your own unique stamp.\n	Create customized hand stamped goods.\n	No experience necessary. In fact\, it's preferred!\n	Enjoy a small group setting for personal attention.\n\n\nMadison based artist Karli Didrickson\, BFA UW-Madison and owner/artist at Chickadiddy\, will demonstrate the basic principles of relief printmaking. Participants will learn how to create and carve an image of their choice into a synthetic rubber block (linocut)\, then learn how to ink and print their image using traditional relief printmaking tools and techniques. Class size is very limited!\n\nWhat's included?\n\nParticipants will be provided carving tools\, instruction\, and ink to use during the class\, and will take home their original hand carved stamp for additional future use. Each participant will also receive a cotton canvas tote bag to print on and take home. If you are fresh out of funky ideas for your stamp\, no worries! There will be plenty of fun images provided to get you started.\n\nWhat do we need from you?\n\nYou are welcome to bring your own additional blank items (stationery\, baby onesie\, t-shirt ) to print on during the class. Any paper goods or fabric item with a flat/tight weave (i.e. cotton\, silk\, jersey\, flannel\, polyester ) will work. It may get messy. Wear clothing you do not mind getting stained. Because we will be using sharp carving tools participants must be 14 years or older.
X-ALT-DESC;FMTTYPE=text/html:<p><strong>Stamp Like a Champ: Linoleum Block Printing with Chickadiddy</strong></p>\n\n<p><strong>Tuesday\, July 16\, 2019 |&nbsp\;</strong><strong>6-8pm | Ages 14+</strong></p>\n\n<p><strong>590 Water St\, Prairie du Sac\, WI 53578</strong></p>\n\n<div>\n<ul>\n	<li>Learn to carve and print your own unique stamp.</li>\n	<li>Create customized hand stamped goods.</li>\n	<li>No experience necessary. In fact\, it&rsquo\;s preferred!</li>\n	<li>Enjoy a small group setting for personal attention.</li>\n</ul>\n\n<p>Madison based artist Karli Didrickson\, BFA UW-Madison and owner/artist at Chickadiddy\, will demonstrate the basic principles of relief printmaking. Participants will learn how to create and carve an image of their choice into a synthetic rubber block (linocut)\, then learn how to ink and print their image using traditional relief printmaking tools and techniques. Class size is very limited!</p>\n\n<p><strong>What&rsquo\;s included?</strong></p>\n\n<p>Participants will be provided carving tools\, instruction\, and ink to use during the class\, and will take home their original hand carved stamp for additional future use. Each participant will also receive a cotton canvas tote bag to print on and take home. If you are fresh out of funky ideas for your stamp\, no worries! There will be plenty of fun images provided to get you started.</p>\n\n<p><strong>What do we need from you?</strong></p>\n\n<p>You are welcome to bring your own additional blank items (stationery\, baby onesie\, t-shirt&hellip\;) to print on during the class. Any paper goods or fabric item with a flat/tight weave (i.e. cotton\, silk\, jersey\, flannel\, polyester&hellip\;) will work. It may get messy. Wear clothing you do not mind getting stained. Because we will be using sharp carving tools participants must be 14 years or older.</p>\n</div>\n
LOCATION:River Arts Studio 590 Water St Prairie du Sac
UID:e.1184.22356
SEQUENCE:3
DTSTAMP:20260423T153604Z
URL:http://members.saukprairie.com/events/details/stamp-like-a-champ-printing-with-chickadiddy-arts-22356
END:VEVENT

END:VCALENDAR
