BEGIN:VCALENDAR
VERSION:2.0
PRODID:-//ChamberMaster//Event Calendar 2.0//EN
METHOD:PUBLISH
X-PUBLISHED-TTL:P3D
REFRESH-INTERVAL:P3D
CALSCALE:GREGORIAN
BEGIN:VEVENT
DTSTART:20171215T020000Z
DTEND:20171215T043000Z
X-MICROSOFT-CDO-ALLDAYEVENT:FALSE
SUMMARY:Star Wars Last Jedi Premiere
DESCRIPTION:
X-ALT-DESC;FMTTYPE=text/html:
LOCATION:
UID:e.1184.14539
SEQUENCE:3
DTSTAMP:20260424T205331Z
URL:http://members.saukprairie.com/events/details/star-wars-last-jedi-premiere-14539
END:VEVENT

END:VCALENDAR
