BEGIN:VCALENDAR
VERSION:2.0
PRODID:-//ChamberMaster//Event Calendar 2.0//EN
METHOD:PUBLISH
X-PUBLISHED-TTL:P3D
REFRESH-INTERVAL:P3D
CALSCALE:GREGORIAN
BEGIN:VEVENT
DTSTART:20190504T150000Z
DTEND:20190504T160000Z
X-MICROSOFT-CDO-ALLDAYEVENT:FALSE
SUMMARY:Star Wars Party
DESCRIPTION:May the fourth be with you!\n\nCome and celebrate all things Star Wars at the library! Enjoy crafts\, activities\, and snacks honoring the force in all of us.
X-ALT-DESC;FMTTYPE=text/html:May the fourth be with you!<br />\nCome and celebrate all things Star Wars at the library! Enjoy crafts\, activities\, and snacks honoring the force in all of us.
LOCATION:515 Water Street Sauk City\, WI 53583
UID:e.1184.22200
SEQUENCE:3
DTSTAMP:20260423T171457Z
URL:http://members.saukprairie.com/events/details/star-wars-party-22200
END:VEVENT

END:VCALENDAR
