BEGIN:VCALENDAR
VERSION:2.0
PRODID:-//ChamberMaster//Event Calendar 2.0//EN
METHOD:PUBLISH
X-PUBLISHED-TTL:P3D
REFRESH-INTERVAL:P3D
CALSCALE:GREGORIAN
BEGIN:VEVENT
DTSTART:20240713T153000Z
DTEND:20240713T180000Z
X-MICROSOFT-CDO-ALLDAYEVENT:FALSE
SUMMARY:Starlab Planetarium
DESCRIPTION:*Registration required*\n\nExperience a Space Adventure this summer with the Starlab Portable Planetarium. Presented by Paul Kinzer\, director of Seeing Stars\, an organization that aims to make exploration of the night sky easy and fun for schools\, libraries\, and all who are interested in What's Up There!\n\nGet inspired to learn about the world around you with a visit inside a portable and immersive planetarium. Travel through a world of knowledge that includes astronomy\, geology\, physical geography\, and more! Find adventure at the library! Call 608-643-8346 or vist the library to sign up today!
X-ALT-DESC;FMTTYPE=text/html:*Registration required*<br />\nExperience a Space Adventure this summer with the Starlab Portable Planetarium. Presented by Paul Kinzer\, director of Seeing Stars\, an organization that aims to make exploration of the night sky easy and fun for schools\, libraries\, and all who are interested in What&rsquo\;s Up There!<br />\nGet inspired to learn about the world around you with a visit inside a portable and immersive planetarium. Travel through a world of knowledge that includes astronomy\, geology\, physical geography\, and more! Find adventure at the library! Call 608-643-8346 or vist the library to sign up today!
LOCATION:George Culver Community Library
UID:e.1184.32844
SEQUENCE:3
DTSTAMP:20260419T175152Z
URL:http://members.saukprairie.com/events/details/starlab-planetarium-32844
END:VEVENT

END:VCALENDAR
