BEGIN:VCALENDAR
VERSION:2.0
PRODID:-//ChamberMaster//Event Calendar 2.0//EN
METHOD:PUBLISH
X-PUBLISHED-TTL:P3D
REFRESH-INTERVAL:P3D
CALSCALE:GREGORIAN
BEGIN:VEVENT
DTSTART;VALUE=DATE:20160702
DTEND;VALUE=DATE:20160705
TRANSP:TRANSPARENT
X-MICROSOFT-CDO-ALLDAYEVENT:TRUE
SUMMARY:Stars & Stripes Special at Mid-Continent Railway Museum
DESCRIPTION:Celebrate America aboard the trains that helped build the nation. The train will be specially decorated for the occasion. Active duty\, retired\, or reserve military personnel ride free in coach class all weekend.
X-ALT-DESC;FMTTYPE=text/html:Celebrate America aboard the trains that helped build the nation. The train will be specially decorated for the occasion. Active duty\, retired\, or reserve military personnel ride free in coach class all weekend.
LOCATION:E8948 Diamond Hill Rd North Freedom\, WI 53951
UID:e.1184.8450
SEQUENCE:3
DTSTAMP:20260425T224722Z
URL:http://members.saukprairie.com/events/details/stars-stripes-special-at-mid-continent-railway-museum-07-02-2016-8450
END:VEVENT

END:VCALENDAR
