BEGIN:VCALENDAR
VERSION:2.0
PRODID:-//ChamberMaster//Event Calendar 2.0//EN
METHOD:PUBLISH
X-PUBLISHED-TTL:P3D
REFRESH-INTERVAL:P3D
CALSCALE:GREGORIAN
BEGIN:VEVENT
DTSTART:20160627T160000Z
DTEND:20160627T180000Z
X-MICROSOFT-CDO-ALLDAYEVENT:FALSE
SUMMARY:Steak in the Community @ Sauk Prairie Community Bank
DESCRIPTION:Sauk Prairie Area\, Wyttenbach Meat's grilled steak sandwiches\, a working person's lunch.\n\n \n\nEvery Monday\, grab yourself a delicious\, $6.00 steak sandwich lunch! Proceeds support Operation Eagles' Wings and their goal of sponsoring Badger Honor Flights for our local Veterans.\n\n\n\nBe sure to check the schedule as this lunch moves around town! \n\n \n\nMonday's * June 6th thru August 29th * 11:00am   1:00pm\n\n \n\nFor phone in order call 644-1213
X-ALT-DESC;FMTTYPE=text/html:<span style="color:rgb(255\, 255\, 255)\; font-size:0px"><span style="color:rgb(255\, 255\, 255)\; font-size:0px">&nbsp\;</span><span style="color:rgb(255\, 255\, 255)\; font-size:0px">&nbsp\;</span><span style="color:rgb(255\, 255\, 255)\; font-size:0px">&crarr\;</span></span>\n\n<div>Sauk Prairie Area\, Wyttenbach Meat&rsquo\;s grilled steak sandwiches\, a working person&rsquo\;s lunch.<br />\n&nbsp\;</div>\n\n<div>Every Monday\, grab yourself a delicious\, $6.00&nbsp\;steak sandwich lunch! Proceeds support <big><strong>Operation Eagles&rsquo\; Wings </strong></big>and their goal of sponsoring <big><strong>Badger Honor Flights </strong></big>for our local <big><u><strong>Veterans</strong></u></big>.<br />\n<br />\nBe sure to check the schedule as this lunch moves around town!&nbsp\;<br />\n&nbsp\;</div>\n\n<div>Monday&rsquo\;s * June 6th thru August 29th * 11:00am &ndash\; 1:00pm<br />\n&nbsp\;</div>\n\n<div><span class="marker"><em>For phone in order call 644-1213 </em></span></div>\n
LOCATION:Schedule June 6: Wyttenbach Meats June 13: Wyttenbach Meats June 20: Mixing Bowl June 27: Sauk Prairie Community Bank July 4: Witwen Parade no steaks July 11: Sauk Prairie Community Bank July 18: Culver's Share Day no steaks July 25: Ace Hardware August 1: Ace hardware August 8: Sauk Prairie Market August 15: Sauk Prairie market August 22: McFarlane's August 29: Wyttenbach Meats Hope you are hungry!
UID:e.1184.8594
SEQUENCE:3
DTSTAMP:20260426T021635Z
URL:http://members.saukprairie.com/events/details/steak-in-the-community-sauk-prairie-community-bank-06-27-2016-8594
END:VEVENT

END:VCALENDAR
