BEGIN:VCALENDAR
VERSION:2.0
PRODID:-//ChamberMaster//Event Calendar 2.0//EN
METHOD:PUBLISH
X-PUBLISHED-TTL:P3D
REFRESH-INTERVAL:P3D
CALSCALE:GREGORIAN
BEGIN:VEVENT
DTSTART:20190719T160000Z
DTEND:20190719T180000Z
X-MICROSOFT-CDO-ALLDAYEVENT:FALSE
SUMMARY:Steak in the Community @ Wyttenbach Meats
DESCRIPTION:Sauk Prairie Area\, Wyttenbach Meat's grilled steak sandwiches\, a working person's lunch.\n\n \n\nEvery other Friday\, grab yourself a delicious\, $6.00 steak sandwich lunch! Proceeds go to Badger Honor Flights.\n\n \n\nNow through August 30th\n\n \n\nFor phone in order call 644-1213
X-ALT-DESC;FMTTYPE=text/html:<div>Sauk Prairie Area\, Wyttenbach Meat&rsquo\;s grilled steak sandwiches\, a working person&rsquo\;s lunch.<br />\n&nbsp\;</div>\n\n<div>Every other Friday\, grab yourself a delicious\, $6.00&nbsp\;steak sandwich lunch! Proceeds go to&nbsp\;<big><strong>Badger Honor Flights.</strong></big><br />\n&nbsp\;</div>\n\n<div>Now through August 30th<br />\n&nbsp\;</div>\n\n<div><span class="marker"><em>For phone in order call 644-1213 </em></span></div>\n
LOCATION:Wyttenbach Meats
UID:e.1184.22571
SEQUENCE:3
DTSTAMP:20260423T141733Z
URL:http://members.saukprairie.com/events/details/steak-in-the-community-wyttenbach-meats-07-19-2019-22571
END:VEVENT

END:VCALENDAR
