BEGIN:VCALENDAR
VERSION:2.0
PRODID:-//ChamberMaster//Event Calendar 2.0//EN
METHOD:PUBLISH
X-PUBLISHED-TTL:P3D
REFRESH-INTERVAL:P3D
CALSCALE:GREGORIAN
BEGIN:VEVENT
DTSTART:20170818T180000Z
DTEND:20170818T200000Z
X-MICROSOFT-CDO-ALLDAYEVENT:FALSE
SUMMARY:STEM Challenges
DESCRIPTION:In July kids will send things flying with straw rockets\, catapults\, a paper airplane launcher\, and marble trampolines.\n\n\n\nIn August\, children can make a density tower and play with slime.\n\n\n\nChildren 5 and under must be accompanied by an adult during these drop-in sessions.
X-ALT-DESC;FMTTYPE=text/html:<span style="background-color:transparent\; color:rgb(0\, 0\, 0)\; font-family:arial\; font-size:11pt">In July kids will send things flying with straw rockets\, catapults\, a paper airplane launcher\, and marble trampolines.<br />\n<br />\nIn August\, children can make a density tower and play with slime.<br />\n<br />\nChildren 5 and under must be accompanied by an adult during these drop-in sessions.</span>
LOCATION:515 Water Street Sauk City\, WI 53583 (608) 643-8346
UID:e.1184.11823
SEQUENCE:3
DTSTAMP:20260425T031203Z
URL:http://members.saukprairie.com/events/details/stem-challenges-08-18-2017-11823
END:VEVENT

END:VCALENDAR
