BEGIN:VCALENDAR
VERSION:2.0
PRODID:-//ChamberMaster//Event Calendar 2.0//EN
METHOD:PUBLISH
X-PUBLISHED-TTL:P3D
REFRESH-INTERVAL:P3D
CALSCALE:GREGORIAN
BEGIN:VEVENT
DTSTART:20241115T140000Z
DTEND:20241115T150000Z
X-MICROSOFT-CDO-ALLDAYEVENT:FALSE
SUMMARY:Step Forward into Growth: Steps to Improve Employee Performance Part 2
DESCRIPTION:Jeff Joutras | Step Forward into Growth\n\n\n\nSteps to Improve Employee Performance -Part 2\n\n	Time management\n	Employee Engagement\n	Effective Communication
X-ALT-DESC;FMTTYPE=text/html:<br />\nJeff Joutras | Step Forward into Growth<br />\n<br />\nSteps to Improve Employee Performance -Part 2\n<ul>\n	<li>Time management</li>\n	<li>Employee Engagement</li>\n	<li>Effective Communication&nbsp\;</li>\n</ul>\n
LOCATION:Sauk Prairie Riverway Welcome Center
UID:e.1184.34354
SEQUENCE:3
DTSTAMP:20260419T130751Z
URL:http://members.saukprairie.com/events/details/step-forward-into-growth-steps-to-improve-employee-performance-part-2-34354
END:VEVENT

END:VCALENDAR
