BEGIN:VCALENDAR
VERSION:2.0
PRODID:-//ChamberMaster//Event Calendar 2.0//EN
METHOD:PUBLISH
X-PUBLISHED-TTL:P3D
REFRESH-INTERVAL:P3D
CALSCALE:GREGORIAN
BEGIN:VEVENT
DTSTART;VALUE=DATE:20230507
DTEND;VALUE=DATE:20230508
TRANSP:TRANSPARENT
X-MICROSOFT-CDO-ALLDAYEVENT:TRUE
SUMMARY:Stepping Up for MENTAL HEALTH Walk-A-Thon
DESCRIPTION:In lieu of Mental Health Awareness Month in the month of May\, #BEKINDSP33 is hosting a Mental Health Awareness and Wellness Event called "Stepping Up for MENTAL HEALTH Walk-A-Thon" on Sunday\, May 7th from 11am-6pm at the Sauk Prairie High School Athletic Stadium. \n\n\n\n100% of the proceeds from this event will be donated back to the Sauk Prairie School District and its Sources of Strength program on behalf of Sawyer Martin's family and #BEKINDSP33. \n\n#BEKINDSP33 would like this event to be family friendly and focused on Mental Health Awareness and how Wellness can help improve one's mental and physical health and overall well-being.  \n\n\n\nWe are hoping this event will include a walk/run (both kid and adults)\, kid activities (bounce houses\, face painting\, music\, etc)\, as well as guest speakers\, food trucks\, a bucket raffle\, and possibly some wellness activities\n\n	11am - Welcome and Guest Speaker Jeff Wright\n	11:30-12 - Kids Walk (Ages 12 and younger)\n	12-5pm - Track Open for Walk-A-Thon\, come Step It Up! (children 12 and under must be accompanied by an adult)\n	12:30pm - Free Kids Exercise Class hosted by SP Fitness and Guest Speaker from Pathway to Wellness Community Clinic\n	1pm - Free Adult exercise class hosted by Zefit\n	3pm - Raffle Drawing (do not have to be present to win)\n	3pm - Free Yoga Class hosted by Prairie Fire Yoga\n	3:30pm - Awards
X-ALT-DESC;FMTTYPE=text/html:In lieu of Mental Health Awareness Month in the month of May\, #BEKINDSP33 is hosting a Mental Health Awareness and Wellness Event called &ldquo\;Stepping Up for MENTAL HEALTH Walk-A-Thon&rdquo\; on Sunday\, May 7th from 11am-6pm at the Sauk Prairie High School Athletic Stadium.&nbsp\;<br />\n<br />\n100% of the proceeds from this event will be donated back to the Sauk Prairie School District and its Sources of Strength program on behalf of Sawyer Martin&rsquo\;s family and #BEKINDSP33.&nbsp\;<br />\n#BEKINDSP33 would like this event to be family friendly and focused on Mental Health Awareness and how Wellness can help improve one&rsquo\;s mental and physical health and overall well-being.&nbsp\;&nbsp\;<br />\n<br />\nWe are hoping this event will include a walk/run (both kid and adults)\, kid activities (bounce houses\, face painting\, music\, etc)\, as well as guest speakers\, food trucks\, a bucket raffle\, and possibly some wellness activities\n<ul>\n	<li>11am - Welcome and Guest Speaker Jeff Wright</li>\n	<li>11:30-12 - Kids Walk (Ages 12 and younger)</li>\n	<li>12-5pm - Track Open for Walk-A-Thon\, come Step It Up! (children 12 and under must be accompanied by an adult)</li>\n	<li>12:30pm - Free Kids Exercise Class hosted by SP Fitness and Guest Speaker from Pathway to Wellness Community Clinic</li>\n	<li>1pm - Free Adult exercise class hosted by Zefit</li>\n	<li>3pm - Raffle Drawing (do not have to be present to win)</li>\n	<li>3pm - Free Yoga Class hosted by Prairie Fire Yoga</li>\n	<li>3:30pm - Awards</li>\n</ul>\n
LOCATION:
UID:e.1184.29915
SEQUENCE:3
DTSTAMP:20260420T132137Z
URL:http://members.saukprairie.com/events/details/stepping-up-for-mental-health-walk-a-thon-29915
END:VEVENT

END:VCALENDAR
