BEGIN:VCALENDAR
VERSION:2.0
PRODID:-//ChamberMaster//Event Calendar 2.0//EN
METHOD:PUBLISH
X-PUBLISHED-TTL:P3D
REFRESH-INTERVAL:P3D
CALSCALE:GREGORIAN
BEGIN:VEVENT
DTSTART:20180520T210000Z
DTEND:20180521T000000Z
X-MICROSOFT-CDO-ALLDAYEVENT:FALSE
SUMMARY:Stomp Out Stigma!
DESCRIPTION:Stomp Out Stigma!\n\nCreating Mental Health Awareness\n\n\n\nRaise awareness and destigmatize mental illnesses and mental health through community support and outreach.\n\n\n\nWalking 2.5 Miles start at High School Track at 4pm.\n\n\n\nCheck us out on Facebook @SPWellnessAlliance or email emmaekenyon@gmail.com and register to walk.
X-ALT-DESC;FMTTYPE=text/html:Stomp Out Stigma!<br />\nCreating Mental Health Awareness<br />\n<br />\nRaise awareness and destigmatize mental illnesses and mental health through community support and outreach.<br />\n<br />\nWalking 2.5 Miles start at High School Track at 4pm.<br />\n<br />\nCheck us out on Facebook @SPWellnessAlliance or email emmaekenyon@gmail.com and register to walk.&nbsp\;
LOCATION:
UID:e.1184.18063
SEQUENCE:3
DTSTAMP:20260424T111843Z
URL:http://members.saukprairie.com/events/details/stomp-out-stigma-18063
END:VEVENT

END:VCALENDAR
