BEGIN:VCALENDAR
VERSION:2.0
PRODID:-//ChamberMaster//Event Calendar 2.0//EN
METHOD:PUBLISH
X-PUBLISHED-TTL:P3D
REFRESH-INTERVAL:P3D
CALSCALE:GREGORIAN
BEGIN:VEVENT
DTSTART:20161119T150000Z
DTEND:20161119T210000Z
X-MICROSOFT-CDO-ALLDAYEVENT:FALSE
SUMMARY:Stop and Shop Saturday!
DESCRIPTION:We will have over 6 small business es joining us so that the community can stop and shop and enjoy some holiday treats and refreshments!    \n\n\n\nLuLaRoe\n\nThe Pampered Chef\n\nJeremy Braun Photography\n\nKarate America\n\nKeep Collective\n\nIt Works!
X-ALT-DESC;FMTTYPE=text/html:We will have over 6 small business es joining us so that the community can stop and shop and enjoy some holiday treats and refreshments!&nbsp\;&nbsp\;&nbsp\;&nbsp\;<br />\n<br />\nLuLaRoe<br />\nThe Pampered Chef<br />\nJeremy Braun Photography<br />\nKarate America<br />\nKeep Collective<br />\nIt Works!
LOCATION:Karate America 625 Water Street Prairie du Sac\, WI 53578
UID:e.1184.9479
SEQUENCE:3
DTSTAMP:20260425T160956Z
URL:http://members.saukprairie.com/events/details/stop-and-shop-saturday-9479
END:VEVENT

END:VCALENDAR
